BEGIN:VCALENDAR
VERSION:2.0
PRODID:-//Pastoralna zveza župnij Slovenj Gradec - ECPv6.15.20//NONSGML v1.0//EN
CALSCALE:GREGORIAN
METHOD:PUBLISH
X-WR-CALNAME:Pastoralna zveza župnij Slovenj Gradec
X-ORIGINAL-URL:https://www.pastir.si
X-WR-CALDESC:Dogodki za Pastoralna zveza župnij Slovenj Gradec
REFRESH-INTERVAL;VALUE=DURATION:PT1H
X-Robots-Tag:noindex
X-PUBLISHED-TTL:PT1H
BEGIN:VTIMEZONE
TZID:Europe/Ljubljana
BEGIN:DAYLIGHT
TZOFFSETFROM:+0100
TZOFFSETTO:+0200
TZNAME:CEST
DTSTART:20210328T010000
END:DAYLIGHT
BEGIN:STANDARD
TZOFFSETFROM:+0200
TZOFFSETTO:+0100
TZNAME:CET
DTSTART:20211031T010000
END:STANDARD
BEGIN:DAYLIGHT
TZOFFSETFROM:+0100
TZOFFSETTO:+0200
TZNAME:CEST
DTSTART:20220327T010000
END:DAYLIGHT
BEGIN:STANDARD
TZOFFSETFROM:+0200
TZOFFSETTO:+0100
TZNAME:CET
DTSTART:20221030T010000
END:STANDARD
BEGIN:DAYLIGHT
TZOFFSETFROM:+0100
TZOFFSETTO:+0200
TZNAME:CEST
DTSTART:20230326T010000
END:DAYLIGHT
BEGIN:STANDARD
TZOFFSETFROM:+0200
TZOFFSETTO:+0100
TZNAME:CET
DTSTART:20231029T010000
END:STANDARD
BEGIN:DAYLIGHT
TZOFFSETFROM:+0100
TZOFFSETTO:+0200
TZNAME:CEST
DTSTART:20240331T010000
END:DAYLIGHT
BEGIN:STANDARD
TZOFFSETFROM:+0200
TZOFFSETTO:+0100
TZNAME:CET
DTSTART:20241027T010000
END:STANDARD
BEGIN:DAYLIGHT
TZOFFSETFROM:+0100
TZOFFSETTO:+0200
TZNAME:CEST
DTSTART:20250330T010000
END:DAYLIGHT
BEGIN:STANDARD
TZOFFSETFROM:+0200
TZOFFSETTO:+0100
TZNAME:CET
DTSTART:20251026T010000
END:STANDARD
END:VTIMEZONE
BEGIN:VEVENT
DTSTART;VALUE=DATE:20240530
DTEND;VALUE=DATE:20240531
DTSTAMP:20260424T181854
CREATED:20220525T162040Z
LAST-MODIFIED:20240330T073227Z
UID:10097-1717027200-1717113599@www.pastir.si
SUMMARY:Sv. Rešnje telo in kri
DESCRIPTION:SV. REŠNJE TELO IN KRI \nObhajamo Jezusovo navzočnost v zakramentu sv. Rešnjega telesa in krvi – evharistije\, ki je središče krščanske vere in zakramentalnega življenja vernih. Praznik je zapovedan\, zato se katoličani ta dan udeležimo bogoslužja.
URL:https://www.pastir.si/dogodek/sv-resnje-telo-in-kri/
ATTACH;FMTTYPE=image/jpeg:https://www.pastir.si/wp-content/uploads/2022/05/resnjetelo.jpg
END:VEVENT
BEGIN:VEVENT
DTSTART;VALUE=DATE:20240526
DTEND;VALUE=DATE:20240527
DTSTAMP:20260424T181854
CREATED:20220525T162516Z
LAST-MODIFIED:20240330T073003Z
UID:10107-1716681600-1716767999@www.pastir.si
SUMMARY:Nedelja Svete Trojice
DESCRIPTION:NEDELJA SVETE TROJICE in PRVO SVETO OBHAJILO \nNa nedeljo po binkoštnem prazniku praznujemo nedeljo Svete Trojice. Pri bogoslužju se zato posebej poglabljamo v skrivnost verske resnice o enem Bogu v treh osebah\, ki so Oče\, Sin in Sveti Duh. Za naše prvoobhajance pa je to poseben praznik\, saj bodo prvič prejeli Jezusa v srce.
URL:https://www.pastir.si/dogodek/nedelja-svete-trojice/
ATTACH;FMTTYPE=image/jpeg:https://www.pastir.si/wp-content/uploads/2022/05/sv_trojica.jpg
END:VEVENT
BEGIN:VEVENT
DTSTART;TZID=Europe/Ljubljana:20240406T193000
DTEND;TZID=Europe/Ljubljana:20240406T210000
DTSTAMP:20260424T181854
CREATED:20240330T071949Z
LAST-MODIFIED:20240330T072132Z
UID:12465-1712431800-1712437200@www.pastir.si
SUMMARY:Večer slavljenja - Zoé
DESCRIPTION:Večer slavljenja s slavilno skupino Zoé. \nSkupino Zoé sestavljamo Klara\, Sara\, Nika\, Žiga\, Jakob in Lovro. Ime naše skupine smo izbrali\, ker beseda Zoé v grščini pomeni življenje\, v Janezovem evangeliju pa v grščini predvsem duhovno in večno življenje. Verujemo\, da ima Bog za vse\, ki si tega želijo\, pripravljeno večno življenje\, kar je naše vodilo. :))
URL:https://www.pastir.si/dogodek/slavilni-vecer-zoe/
LOCATION:Elizabetin dom\, Slovenj Gradec\, Vorančev trg 5\, Slovenj Gradec\, 2380\, Slovenija
CATEGORIES:Slavljenje
ATTACH;FMTTYPE=image/jpeg:https://www.pastir.si/wp-content/uploads/2024/03/zoe-1.jpg
END:VEVENT
BEGIN:VEVENT
DTSTART;TZID=Europe/Ljubljana:20240119T193000
DTEND;TZID=Europe/Ljubljana:20240119T210000
DTSTAMP:20260424T181854
CREATED:20221021T123134Z
LAST-MODIFIED:20240110T161739Z
UID:10477-1705692600-1705698000@www.pastir.si
SUMMARY:Taizéjski večer
DESCRIPTION:Slavilni večer s taizéjskimi spevi v Elizabetinem domu. Lepo bo\, preprosto in bogato obenem. Skupaj bomo molili in prepevali.
URL:https://www.pastir.si/dogodek/slavilni-vecer-2/
CATEGORIES:Slavljenje
ATTACH;FMTTYPE=image/jpeg:https://www.pastir.si/wp-content/uploads/2022/10/taize.jpg
END:VEVENT
BEGIN:VEVENT
DTSTART;TZID=Europe/Ljubljana:20240118T180000
DTEND;TZID=Europe/Ljubljana:20240118T200000
DTSTAMP:20260424T181854
CREATED:20221215T145758Z
LAST-MODIFIED:20240110T161658Z
UID:8734-1705600800-1705608000@www.pastir.si
SUMMARY:Alfa 2024
DESCRIPTION:Alfa spreminja na bolje življenja po vsem svetu … Zakaj ne bi še tvojega? :)
URL:https://www.pastir.si/dogodek/alfa-2022/
CATEGORIES:Alfa,Srečanje
ATTACH;FMTTYPE=image/jpeg:https://www.pastir.si/wp-content/uploads/2021/09/alfa_21.jpg
END:VEVENT
BEGIN:VEVENT
DTSTART;VALUE=DATE:20240112
DTEND;VALUE=DATE:20240115
DTSTAMP:20260424T181854
CREATED:20240110T161443Z
LAST-MODIFIED:20240110T161443Z
UID:12165-1705017600-1705276799@www.pastir.si
SUMMARY:Duhovne vaje za 7. in 8. razred
DESCRIPTION:V molitvi podprimo naše mlade\, ki se odpravljajo na duhovni odmik. Naj jih dobri Bog navduši in nagovori.
URL:https://www.pastir.si/dogodek/duhovne-vaje-za-7-in-8-razred/
CATEGORIES:Srečanje
ATTACH;FMTTYPE=image/jpeg:https://www.pastir.si/wp-content/uploads/2021/10/mladi.jpg
END:VEVENT
BEGIN:VEVENT
DTSTART;VALUE=DATE:20231228
DTEND;VALUE=DATE:20240102
DTSTAMP:20260424T181854
CREATED:20231202T160228Z
LAST-MODIFIED:20231202T160228Z
UID:11985-1703721600-1704153599@www.pastir.si
SUMMARY:Evropsko srečanje mladih
DESCRIPTION:Tudi mi gremo na Evropsko srečanje mladih\, ki bo letos v Ljubljani! Informacije na https://taizeljubljana.si/. 
URL:https://www.pastir.si/dogodek/evropsko-srecanje-mladih/
ATTACH;FMTTYPE=image/jpeg:https://www.pastir.si/wp-content/uploads/2022/12/evropskosrecanjemladih.jpg
END:VEVENT
BEGIN:VEVENT
DTSTART;VALUE=DATE:20231201
DTEND;VALUE=DATE:20231207
DTSTAMP:20260424T181854
CREATED:20201123T140745Z
LAST-MODIFIED:20231202T154129Z
UID:5785-1701388800-1701907199@www.pastir.si
SUMMARY:Miklavževanje
DESCRIPTION:Sveti Miklavž že peče piškote … Le kako nas bo letos presenetil? :)
URL:https://www.pastir.si/dogodek/sveti-miklavz/
CATEGORIES:Praznik
ATTACH;FMTTYPE=image/jpeg:https://www.pastir.si/wp-content/uploads/2020/11/miklavz2.jpg
END:VEVENT
BEGIN:VEVENT
DTSTART;TZID=Europe/Ljubljana:20231110T193000
DTEND;TZID=Europe/Ljubljana:20231110T210000
DTSTAMP:20260424T181854
CREATED:20211123T140631Z
LAST-MODIFIED:20231030T095914Z
UID:8988-1699644600-1699650000@www.pastir.si
SUMMARY:Slavljenje
DESCRIPTION:V petek\, 10. 11. 2023 se ob 19.30 srečamo v Elizabetinem domu in skupaj slavimo Gospoda s pesmijo in molitvami.
URL:https://www.pastir.si/dogodek/slavljenje-kriza-mladih/
LOCATION:Elizabetin dom\, Slovenj Gradec\, Vorančev trg 5\, Slovenj Gradec\, 2380\, Slovenija
CATEGORIES:Slavljenje
ATTACH;FMTTYPE=image/jpeg:https://www.pastir.si/wp-content/uploads/2022/10/slavljenje.jpg
END:VEVENT
BEGIN:VEVENT
DTSTART;TZID=Europe/Ljubljana:20230923T170000
DTEND;TZID=Europe/Ljubljana:20230923T210000
DTSTAMP:20260424T181854
CREATED:20210921T153750Z
LAST-MODIFIED:20230922T101119Z
UID:8643-1695488400-1695502800@www.pastir.si
SUMMARY:Radživimovanje
DESCRIPTION:17.00 – praznovanje ob 20. obletnici RadŽivima \n18.30 – slavilni večer in druženje \nPridružite se nam na praznovanju 20-letnice RadŽivima. Za vse\, ki radi živimo ali bi radi radi živeli. ;) Se vidimo v Starem trgu pred cerkvijo sv. Radegunde!
URL:https://www.pastir.si/dogodek/radzivimovanje/
ATTACH;FMTTYPE=image/jpeg:https://www.pastir.si/wp-content/uploads/2023/09/radzivimovanje23.jpg
END:VEVENT
BEGIN:VEVENT
DTSTART;VALUE=DATE:20230909
DTEND;VALUE=DATE:20230910
DTSTAMP:20260424T181854
CREATED:20211116T210157Z
LAST-MODIFIED:20230822T141832Z
UID:8978-1694217600-1694303999@www.pastir.si
SUMMARY:Romanje Pastoralne zveze na Ptujsko Goro
DESCRIPTION:Najprej se bomo na Ptujski Gori pridružili molitvenemu dnevu za duhovne poklice\, kjer bo naš bogoslovec Žiga prejel službo mašnega pomočnika. V nadaljevanju romanja bomo v Mariboru obiskali kraje\, povezane s Cvetano Priol\, močno svetniško osebnostjo iz naše bližine.
URL:https://www.pastir.si/dogodek/romanje-na-ptujsko-goro/
ATTACH;FMTTYPE=image/jpeg:https://www.pastir.si/wp-content/uploads/2021/11/ptujskagora2.jpg
END:VEVENT
BEGIN:VEVENT
DTSTART;VALUE=DATE:20230806
DTEND;VALUE=DATE:20230810
DTSTAMP:20260424T181854
CREATED:20210527T090621Z
LAST-MODIFIED:20230530T193639Z
UID:8180-1691280000-1691625599@www.pastir.si
SUMMARY:RadŽivim pod šotori
DESCRIPTION:Na vrhu Pohorja odzvanja Božja beseda\, v očeh se slika približajoča se nevihta z Uršlje gore\, v srcu odmevata otroški smeh in jok\, sliši se žvrgolenje tolikih ptic\, brenčanje čebel\, v zraku razburljivost ob postavljanju šotorov in ta neomejena preprostost RadŽivima pod šotori … Prisrčno vabljeni na RadŽivim pod šotori. Šotore bomo postavili okrog sv. Ane nad Pamečami. 
URL:https://www.pastir.si/dogodek/radzivim-pod-sotori/
CATEGORIES:Srečanje
ATTACH;FMTTYPE=image/jpeg:https://www.pastir.si/wp-content/uploads/2021/05/podsotori.jpg
END:VEVENT
BEGIN:VEVENT
DTSTART;TZID=Europe/Ljubljana:20230506T150000
DTEND;TZID=Europe/Ljubljana:20230506T190000
DTSTAMP:20260424T181854
CREATED:20230419T163318Z
LAST-MODIFIED:20230419T163318Z
UID:11511-1683385200-1683399600@www.pastir.si
SUMMARY:Alfa konferenca
DESCRIPTION:Alfa Slovenija. Elizabetin dom v Slovenj Gradcu.
URL:https://www.pastir.si/dogodek/alfa-konferenca/
CATEGORIES:Slavljenje
ATTACH;FMTTYPE=image/jpeg:https://www.pastir.si/wp-content/uploads/2023/04/alfakonferenca.jpg
END:VEVENT
BEGIN:VEVENT
DTSTART;TZID=Europe/Ljubljana:20230421T193000
DTEND;TZID=Europe/Ljubljana:20230421T210000
DTSTAMP:20260424T181854
CREATED:20230407T121550Z
LAST-MODIFIED:20230407T121550Z
UID:11489-1682105400-1682110800@www.pastir.si
SUMMARY:Slavilni večer
DESCRIPTION:Slavilni večer v Elizabetinem domu.
URL:https://www.pastir.si/dogodek/slavilni-vecer-4/
CATEGORIES:Slavljenje
ATTACH;FMTTYPE=image/jpeg:https://www.pastir.si/wp-content/uploads/2022/10/slavljenje.jpg
END:VEVENT
BEGIN:VEVENT
DTSTART;TZID=Europe/Ljubljana:20230320T200000
DTEND;TZID=Europe/Ljubljana:20230320T210000
DTSTAMP:20260424T181854
CREATED:20230301T173743Z
LAST-MODIFIED:20230301T173743Z
UID:11218-1679342400-1679346000@www.pastir.si
SUMMARY:Na Zoomu z ...
DESCRIPTION:Gost: naš župnik Simon Potnik
URL:https://www.pastir.si/dogodek/na-zoomu-z-20/
CATEGORIES:Srečanje
ATTACH;FMTTYPE=image/jpeg:https://www.pastir.si/wp-content/uploads/2023/03/simon_potnik.jpg
END:VEVENT
BEGIN:VEVENT
DTSTART;TZID=Europe/Ljubljana:20230303T160000
DTEND;TZID=Europe/Ljubljana:20230305T160000
DTSTAMP:20260424T181854
CREATED:20220312T110727Z
LAST-MODIFIED:20230204T210439Z
UID:9701-1677859200-1678032000@www.pastir.si
SUMMARY:Duhovne vaje za mlade
DESCRIPTION:Tudi sam se je trdno odločil iti … Lk 9\,15\n3.– 5. marec 2023 | Razbor\n\nVodenje: Matej Jamnik in duhovnik Simon Potnik\nVabljeni!
URL:https://www.pastir.si/dogodek/duhovne-vaje-za-mlade/
CATEGORIES:Srečanje
ATTACH;FMTTYPE=image/jpeg:https://www.pastir.si/wp-content/uploads/2022/03/duhovne-vaje-za-mlade-2023.jpg
END:VEVENT
BEGIN:VEVENT
DTSTART;TZID=Europe/Ljubljana:20230220T200000
DTEND;TZID=Europe/Ljubljana:20230220T210000
DTSTAMP:20260424T181854
CREATED:20230111T151758Z
LAST-MODIFIED:20230111T151830Z
UID:10837-1676923200-1676926800@www.pastir.si
SUMMARY:Na Zoomu z ...
DESCRIPTION:Gostji: Mojca Giacomelli in Živa Štiglic (Ženska na polno)
URL:https://www.pastir.si/dogodek/na-zoomu-z-19/
CATEGORIES:Srečanje
ATTACH;FMTTYPE=image/jpeg:https://www.pastir.si/wp-content/uploads/2022/02/nazoomuz_.jpg
END:VEVENT
BEGIN:VEVENT
DTSTART;TZID=Europe/Ljubljana:20230122T190000
DTEND;TZID=Europe/Ljubljana:20230122T203000
DTSTAMP:20260424T181854
CREATED:20221021T123039Z
LAST-MODIFIED:20230116T212405Z
UID:10474-1674414000-1674419400@www.pastir.si
SUMMARY:Slavilni večer
DESCRIPTION:Večer slavilne glasbe\, molitve in kratke kateheze. \nTokrat v sodelovanju s Svetopisemskim maratonom.
URL:https://www.pastir.si/dogodek/slavilni-vecer/
CATEGORIES:Slavljenje
ATTACH;FMTTYPE=image/jpeg:https://www.pastir.si/wp-content/uploads/2022/10/slavljenje.jpg
END:VEVENT
BEGIN:VEVENT
DTSTART;TZID=Europe/Ljubljana:20230116T200000
DTEND;TZID=Europe/Ljubljana:20230116T210000
DTSTAMP:20260424T181854
CREATED:20230111T151639Z
LAST-MODIFIED:20230111T162626Z
UID:10835-1673899200-1673902800@www.pastir.si
SUMMARY:Na Zoomu z ...
DESCRIPTION:Gost: Benjamin Siter
URL:https://www.pastir.si/dogodek/na-zoomu-z-18/
CATEGORIES:Srečanje
ATTACH;FMTTYPE=image/jpeg:https://www.pastir.si/wp-content/uploads/2021/10/nazoomuz.jpg
END:VEVENT
BEGIN:VEVENT
DTSTART;TZID=Europe/Ljubljana:20221218T100000
DTEND;TZID=Europe/Ljubljana:20221218T143000
DTSTAMP:20260424T181854
CREATED:20221022T164255Z
LAST-MODIFIED:20221022T164255Z
UID:10500-1671357600-1671373800@www.pastir.si
SUMMARY:Družinska kateheza
DESCRIPTION:Pričnemo s sveto mašo nato pa veselje do konca :)
URL:https://www.pastir.si/dogodek/druzinska-kateheza-2/
CATEGORIES:Družina,Kateheza,Srečanje
ATTACH;FMTTYPE=image/jpeg:https://www.pastir.si/wp-content/uploads/2020/12/dk.jpg
END:VEVENT
BEGIN:VEVENT
DTSTART;VALUE=DATE:20221216
DTEND;VALUE=DATE:20221225
DTSTAMP:20260424T181854
CREATED:20221215T122950Z
LAST-MODIFIED:20241121T173056Z
UID:6238-1671148800-1671926399@www.pastir.si
SUMMARY:Pobožnost Marijo nosijo in Božična devetdnevnica
DESCRIPTION:Z božično devetdnevnico se najbolj neposredno pripravimo na božič. Tudi letos ne pozabimo na pobožnost Marijo nosijo. :)
URL:https://www.pastir.si/dogodek/poboznost-marijo-nosijo-in-bozicna-devetdnevnica/
ATTACH;FMTTYPE=image/jpeg:https://www.pastir.si/wp-content/uploads/2020/12/marija.jpg
END:VEVENT
BEGIN:VEVENT
DTSTART;TZID=Europe/Ljubljana:20221212T200000
DTEND;TZID=Europe/Ljubljana:20221212T210000
DTSTAMP:20260424T181854
CREATED:20221122T092117Z
LAST-MODIFIED:20221126T181218Z
UID:10616-1670875200-1670878800@www.pastir.si
SUMMARY:Na Zoomu z ...
DESCRIPTION:3. adventno srečanje \ngostja: Helena Fojkar Zupančič
URL:https://www.pastir.si/dogodek/na-zoomu-z-17/
CATEGORIES:Srečanje
ATTACH;FMTTYPE=image/jpeg:https://www.pastir.si/wp-content/uploads/2021/10/nazoomuz.jpg
END:VEVENT
BEGIN:VEVENT
DTSTART;TZID=Europe/Ljubljana:20221205T200000
DTEND;TZID=Europe/Ljubljana:20221205T210000
DTSTAMP:20260424T181854
CREATED:20221122T092028Z
LAST-MODIFIED:20221126T181313Z
UID:10614-1670270400-1670274000@www.pastir.si
SUMMARY:Na Zoomu z ...
DESCRIPTION:2. adventno srečanje \ngost: Marcos Tavares
URL:https://www.pastir.si/dogodek/na-zoomu-z-16/
CATEGORIES:Srečanje
ATTACH;FMTTYPE=image/jpeg:https://www.pastir.si/wp-content/uploads/2021/10/nazoomuz.jpg
END:VEVENT
BEGIN:VEVENT
DTSTART;TZID=Europe/Ljubljana:20221128T200000
DTEND;TZID=Europe/Ljubljana:20221128T210000
DTSTAMP:20260424T181854
CREATED:20201222T192312Z
LAST-MODIFIED:20221126T181304Z
UID:6378-1669665600-1669669200@www.pastir.si
SUMMARY:Na Zoomu z ...
DESCRIPTION:1. adventno srečanje \nSestri Barbara in Jožica iz Ukrajine
URL:https://www.pastir.si/dogodek/na-zoomu-z/
CATEGORIES:Srečanje
ATTACH;FMTTYPE=image/jpeg:https://www.pastir.si/wp-content/uploads/2021/10/nazoomuz.jpg
END:VEVENT
BEGIN:VEVENT
DTSTART;TZID=Europe/Ljubljana:20221125T193000
DTEND;TZID=Europe/Ljubljana:20221125T210000
DTSTAMP:20260424T181854
CREATED:20221104T181228Z
LAST-MODIFIED:20221104T181228Z
UID:10497-1669404600-1669410000@www.pastir.si
SUMMARY:Slavilni večer
DESCRIPTION:Slavilni večer v Elizabetinem domu.
URL:https://www.pastir.si/dogodek/slavilni-vecer-3/
CATEGORIES:Slavljenje
ATTACH;FMTTYPE=image/jpeg:https://www.pastir.si/wp-content/uploads/2022/10/slavljenje.jpg
END:VEVENT
BEGIN:VEVENT
DTSTART;TZID=Europe/Ljubljana:20221120T100000
DTEND;TZID=Europe/Ljubljana:20221120T143000
DTSTAMP:20260424T181854
CREATED:20201222T191535Z
LAST-MODIFIED:20221022T164129Z
UID:6375-1668938400-1668954600@www.pastir.si
SUMMARY:Družinska kateheza
DESCRIPTION:Pričnemo s sveto mašo nato pa veselje do konca :)
URL:https://www.pastir.si/dogodek/druzinska-kateheza/
CATEGORIES:Družina,Kateheza,Srečanje
ATTACH;FMTTYPE=image/jpeg:https://www.pastir.si/wp-content/uploads/2020/12/dk.jpg
END:VEVENT
BEGIN:VEVENT
DTSTART;TZID=Europe/Ljubljana:20221104T193000
DTEND;TZID=Europe/Ljubljana:20221104T193000
DTSTAMP:20260424T181854
CREATED:20221021T104027Z
LAST-MODIFIED:20221021T113738Z
UID:10469-1667590200-1667590200@www.pastir.si
SUMMARY:Kateheze za mlade
DESCRIPTION:Kateheze za mlade. Srečevali se bomo vsak prvi in tretji petek ob 19:30 v E-domu in vsak drugi in četrti četrtek ob 20:00 preko Zooma. Začetek v mesecu oktobru. \nKateheze so namenjene mladim od 1. letnika srednje šole naprej\, ki si želijo druženja in poglobljenega pogovora\, pa tudi sproščenosti in mladostne razigranosti. Kateheze bosta pripravljala Matej Jamnik in župnik Simon Potnik. Dobrodošel in povabi še koga. :)  Se vidimo.
URL:https://www.pastir.si/dogodek/kateheze-za-mlade/
CATEGORIES:Srečanje
ATTACH;FMTTYPE=image/jpeg:https://www.pastir.si/wp-content/uploads/2022/10/kateheze.jpg
END:VEVENT
BEGIN:VEVENT
DTSTART;TZID=Europe/Ljubljana:20220924T183000
DTEND;TZID=Europe/Ljubljana:20220924T203000
DTSTAMP:20260424T181854
CREATED:20220913T203926Z
LAST-MODIFIED:20220914T183715Z
UID:10370-1664044200-1664051400@www.pastir.si
SUMMARY:Slavilni večer s skupino Abend
DESCRIPTION:Slavilni večer z dobrodelno noto v družbi skupine Abend.\nStari trg pri Slovenj Gradcu\, prostor pred cerkvijo sv. Radegunde.
URL:https://www.pastir.si/dogodek/slavilni-vecer-v-druzbi-abenda/
CATEGORIES:Koncert,Slavljenje,Srečanje
ATTACH;FMTTYPE=image/jpeg:https://www.pastir.si/wp-content/uploads/2022/09/abend.jpg
END:VEVENT
BEGIN:VEVENT
DTSTART;TZID=Europe/Ljubljana:20220612T100000
DTEND;TZID=Europe/Ljubljana:20220612T120000
DTSTAMP:20260424T181854
CREATED:20220606T082155Z
LAST-MODIFIED:20220606T082211Z
UID:10151-1655028000-1655035200@www.pastir.si
SUMMARY:Piknik MladiA in zaključek pastoralnega leta
DESCRIPTION:Stari trg ob 10.00 – pridi\, zabavno bo.
URL:https://www.pastir.si/dogodek/piknik-mladia-in-zakljucek-pastoralnega-leta/
ATTACH;FMTTYPE=image/jpeg:https://www.pastir.si/wp-content/uploads/2022/06/piknik-mladia.jpg
END:VEVENT
BEGIN:VEVENT
DTSTART;TZID=Europe/Ljubljana:20220522T100000
DTEND;TZID=Europe/Ljubljana:20220522T120000
DTSTAMP:20260424T181854
CREATED:20220513T072232Z
LAST-MODIFIED:20220513T072232Z
UID:10030-1653213600-1653220800@www.pastir.si
SUMMARY:Dan seniorjev
DESCRIPTION:Dan seniorjev – s pričetkom ob 10. uri pri sveti maši v Starem trgu
URL:https://www.pastir.si/dogodek/dan-seniorjev/
ATTACH;FMTTYPE=image/jpeg:https://www.pastir.si/wp-content/uploads/2022/05/seniorji.jpg
END:VEVENT
END:VCALENDAR