BEGIN:VCALENDAR
VERSION:2.0
PRODID:-//Pastoralna zveza župnij Slovenj Gradec - ECPv6.15.20//NONSGML v1.0//EN
CALSCALE:GREGORIAN
METHOD:PUBLISH
X-WR-CALNAME:Pastoralna zveza župnij Slovenj Gradec
X-ORIGINAL-URL:https://www.pastir.si
X-WR-CALDESC:Dogodki za Pastoralna zveza župnij Slovenj Gradec
REFRESH-INTERVAL;VALUE=DURATION:PT1H
X-Robots-Tag:noindex
X-PUBLISHED-TTL:PT1H
BEGIN:VTIMEZONE
TZID:Europe/Ljubljana
BEGIN:DAYLIGHT
TZOFFSETFROM:+0100
TZOFFSETTO:+0200
TZNAME:CEST
DTSTART:20200329T010000
END:DAYLIGHT
BEGIN:STANDARD
TZOFFSETFROM:+0200
TZOFFSETTO:+0100
TZNAME:CET
DTSTART:20201025T010000
END:STANDARD
BEGIN:DAYLIGHT
TZOFFSETFROM:+0100
TZOFFSETTO:+0200
TZNAME:CEST
DTSTART:20210328T010000
END:DAYLIGHT
BEGIN:STANDARD
TZOFFSETFROM:+0200
TZOFFSETTO:+0100
TZNAME:CET
DTSTART:20211031T010000
END:STANDARD
BEGIN:DAYLIGHT
TZOFFSETFROM:+0100
TZOFFSETTO:+0200
TZNAME:CEST
DTSTART:20220327T010000
END:DAYLIGHT
BEGIN:STANDARD
TZOFFSETFROM:+0200
TZOFFSETTO:+0100
TZNAME:CET
DTSTART:20221030T010000
END:STANDARD
BEGIN:DAYLIGHT
TZOFFSETFROM:+0100
TZOFFSETTO:+0200
TZNAME:CEST
DTSTART:20230326T010000
END:DAYLIGHT
BEGIN:STANDARD
TZOFFSETFROM:+0200
TZOFFSETTO:+0100
TZNAME:CET
DTSTART:20231029T010000
END:STANDARD
BEGIN:DAYLIGHT
TZOFFSETFROM:+0100
TZOFFSETTO:+0200
TZNAME:CEST
DTSTART:20240331T010000
END:DAYLIGHT
BEGIN:STANDARD
TZOFFSETFROM:+0200
TZOFFSETTO:+0100
TZNAME:CET
DTSTART:20241027T010000
END:STANDARD
END:VTIMEZONE
BEGIN:VEVENT
DTSTART;TZID=Europe/Ljubljana:20230116T200000
DTEND;TZID=Europe/Ljubljana:20230116T210000
DTSTAMP:20260425T011445
CREATED:20230111T151639Z
LAST-MODIFIED:20230111T162626Z
UID:10835-1673899200-1673902800@www.pastir.si
SUMMARY:Na Zoomu z ...
DESCRIPTION:Gost: Benjamin Siter
URL:https://www.pastir.si/dogodek/na-zoomu-z-18/
CATEGORIES:Srečanje
ATTACH;FMTTYPE=image/jpeg:https://www.pastir.si/wp-content/uploads/2021/10/nazoomuz.jpg
END:VEVENT
BEGIN:VEVENT
DTSTART;TZID=Europe/Ljubljana:20221218T100000
DTEND;TZID=Europe/Ljubljana:20221218T143000
DTSTAMP:20260425T011445
CREATED:20221022T164255Z
LAST-MODIFIED:20221022T164255Z
UID:10500-1671357600-1671373800@www.pastir.si
SUMMARY:Družinska kateheza
DESCRIPTION:Pričnemo s sveto mašo nato pa veselje do konca :)
URL:https://www.pastir.si/dogodek/druzinska-kateheza-2/
CATEGORIES:Družina,Kateheza,Srečanje
ATTACH;FMTTYPE=image/jpeg:https://www.pastir.si/wp-content/uploads/2020/12/dk.jpg
END:VEVENT
BEGIN:VEVENT
DTSTART;VALUE=DATE:20221216
DTEND;VALUE=DATE:20221225
DTSTAMP:20260425T011445
CREATED:20221215T122950Z
LAST-MODIFIED:20241121T173056Z
UID:6238-1671148800-1671926399@www.pastir.si
SUMMARY:Pobožnost Marijo nosijo in Božična devetdnevnica
DESCRIPTION:Z božično devetdnevnico se najbolj neposredno pripravimo na božič. Tudi letos ne pozabimo na pobožnost Marijo nosijo. :)
URL:https://www.pastir.si/dogodek/poboznost-marijo-nosijo-in-bozicna-devetdnevnica/
ATTACH;FMTTYPE=image/jpeg:https://www.pastir.si/wp-content/uploads/2020/12/marija.jpg
END:VEVENT
BEGIN:VEVENT
DTSTART;TZID=Europe/Ljubljana:20221212T200000
DTEND;TZID=Europe/Ljubljana:20221212T210000
DTSTAMP:20260425T011445
CREATED:20221122T092117Z
LAST-MODIFIED:20221126T181218Z
UID:10616-1670875200-1670878800@www.pastir.si
SUMMARY:Na Zoomu z ...
DESCRIPTION:3. adventno srečanje \ngostja: Helena Fojkar Zupančič
URL:https://www.pastir.si/dogodek/na-zoomu-z-17/
CATEGORIES:Srečanje
ATTACH;FMTTYPE=image/jpeg:https://www.pastir.si/wp-content/uploads/2021/10/nazoomuz.jpg
END:VEVENT
BEGIN:VEVENT
DTSTART;TZID=Europe/Ljubljana:20221205T200000
DTEND;TZID=Europe/Ljubljana:20221205T210000
DTSTAMP:20260425T011445
CREATED:20221122T092028Z
LAST-MODIFIED:20221126T181313Z
UID:10614-1670270400-1670274000@www.pastir.si
SUMMARY:Na Zoomu z ...
DESCRIPTION:2. adventno srečanje \ngost: Marcos Tavares
URL:https://www.pastir.si/dogodek/na-zoomu-z-16/
CATEGORIES:Srečanje
ATTACH;FMTTYPE=image/jpeg:https://www.pastir.si/wp-content/uploads/2021/10/nazoomuz.jpg
END:VEVENT
BEGIN:VEVENT
DTSTART;TZID=Europe/Ljubljana:20221128T200000
DTEND;TZID=Europe/Ljubljana:20221128T210000
DTSTAMP:20260425T011445
CREATED:20201222T192312Z
LAST-MODIFIED:20221126T181304Z
UID:6378-1669665600-1669669200@www.pastir.si
SUMMARY:Na Zoomu z ...
DESCRIPTION:1. adventno srečanje \nSestri Barbara in Jožica iz Ukrajine
URL:https://www.pastir.si/dogodek/na-zoomu-z/
CATEGORIES:Srečanje
ATTACH;FMTTYPE=image/jpeg:https://www.pastir.si/wp-content/uploads/2021/10/nazoomuz.jpg
END:VEVENT
BEGIN:VEVENT
DTSTART;TZID=Europe/Ljubljana:20221125T193000
DTEND;TZID=Europe/Ljubljana:20221125T210000
DTSTAMP:20260425T011445
CREATED:20221104T181228Z
LAST-MODIFIED:20221104T181228Z
UID:10497-1669404600-1669410000@www.pastir.si
SUMMARY:Slavilni večer
DESCRIPTION:Slavilni večer v Elizabetinem domu.
URL:https://www.pastir.si/dogodek/slavilni-vecer-3/
CATEGORIES:Slavljenje
ATTACH;FMTTYPE=image/jpeg:https://www.pastir.si/wp-content/uploads/2022/10/slavljenje.jpg
END:VEVENT
BEGIN:VEVENT
DTSTART;TZID=Europe/Ljubljana:20221120T100000
DTEND;TZID=Europe/Ljubljana:20221120T143000
DTSTAMP:20260425T011445
CREATED:20201222T191535Z
LAST-MODIFIED:20221022T164129Z
UID:6375-1668938400-1668954600@www.pastir.si
SUMMARY:Družinska kateheza
DESCRIPTION:Pričnemo s sveto mašo nato pa veselje do konca :)
URL:https://www.pastir.si/dogodek/druzinska-kateheza/
CATEGORIES:Družina,Kateheza,Srečanje
ATTACH;FMTTYPE=image/jpeg:https://www.pastir.si/wp-content/uploads/2020/12/dk.jpg
END:VEVENT
BEGIN:VEVENT
DTSTART;TZID=Europe/Ljubljana:20221104T193000
DTEND;TZID=Europe/Ljubljana:20221104T193000
DTSTAMP:20260425T011445
CREATED:20221021T104027Z
LAST-MODIFIED:20221021T113738Z
UID:10469-1667590200-1667590200@www.pastir.si
SUMMARY:Kateheze za mlade
DESCRIPTION:Kateheze za mlade. Srečevali se bomo vsak prvi in tretji petek ob 19:30 v E-domu in vsak drugi in četrti četrtek ob 20:00 preko Zooma. Začetek v mesecu oktobru. \nKateheze so namenjene mladim od 1. letnika srednje šole naprej\, ki si želijo druženja in poglobljenega pogovora\, pa tudi sproščenosti in mladostne razigranosti. Kateheze bosta pripravljala Matej Jamnik in župnik Simon Potnik. Dobrodošel in povabi še koga. :)  Se vidimo.
URL:https://www.pastir.si/dogodek/kateheze-za-mlade/
CATEGORIES:Srečanje
ATTACH;FMTTYPE=image/jpeg:https://www.pastir.si/wp-content/uploads/2022/10/kateheze.jpg
END:VEVENT
BEGIN:VEVENT
DTSTART;TZID=Europe/Ljubljana:20220924T183000
DTEND;TZID=Europe/Ljubljana:20220924T203000
DTSTAMP:20260425T011445
CREATED:20220913T203926Z
LAST-MODIFIED:20220914T183715Z
UID:10370-1664044200-1664051400@www.pastir.si
SUMMARY:Slavilni večer s skupino Abend
DESCRIPTION:Slavilni večer z dobrodelno noto v družbi skupine Abend.\nStari trg pri Slovenj Gradcu\, prostor pred cerkvijo sv. Radegunde.
URL:https://www.pastir.si/dogodek/slavilni-vecer-v-druzbi-abenda/
CATEGORIES:Koncert,Slavljenje,Srečanje
ATTACH;FMTTYPE=image/jpeg:https://www.pastir.si/wp-content/uploads/2022/09/abend.jpg
END:VEVENT
BEGIN:VEVENT
DTSTART;TZID=Europe/Ljubljana:20220612T100000
DTEND;TZID=Europe/Ljubljana:20220612T120000
DTSTAMP:20260425T011445
CREATED:20220606T082155Z
LAST-MODIFIED:20220606T082211Z
UID:10151-1655028000-1655035200@www.pastir.si
SUMMARY:Piknik MladiA in zaključek pastoralnega leta
DESCRIPTION:Stari trg ob 10.00 – pridi\, zabavno bo.
URL:https://www.pastir.si/dogodek/piknik-mladia-in-zakljucek-pastoralnega-leta/
ATTACH;FMTTYPE=image/jpeg:https://www.pastir.si/wp-content/uploads/2022/06/piknik-mladia.jpg
END:VEVENT
BEGIN:VEVENT
DTSTART;TZID=Europe/Ljubljana:20220522T100000
DTEND;TZID=Europe/Ljubljana:20220522T120000
DTSTAMP:20260425T011445
CREATED:20220513T072232Z
LAST-MODIFIED:20220513T072232Z
UID:10030-1653213600-1653220800@www.pastir.si
SUMMARY:Dan seniorjev
DESCRIPTION:Dan seniorjev – s pričetkom ob 10. uri pri sveti maši v Starem trgu
URL:https://www.pastir.si/dogodek/dan-seniorjev/
ATTACH;FMTTYPE=image/jpeg:https://www.pastir.si/wp-content/uploads/2022/05/seniorji.jpg
END:VEVENT
BEGIN:VEVENT
DTSTART;TZID=Europe/Ljubljana:20220516T200000
DTEND;TZID=Europe/Ljubljana:20220516T210000
DTSTAMP:20260425T011445
CREATED:20220516T092954Z
LAST-MODIFIED:20220516T092954Z
UID:10038-1652731200-1652734800@www.pastir.si
SUMMARY:Na Zoomu z …
DESCRIPTION:Maja se bomo družili z Mico Škobrne.  \nPredstavila nam bo svojo družino s petimi otroki in dinamiko v njej\, saj njen mož ni veren. Pred nekaj leti so se za nekaj mesecev preselili v tujino. Podelila bo izkušnjo šolanja\, druženja in verskega življenja v tujini.  \nVabljeni!
URL:https://www.pastir.si/dogodek/na-zoomu-z-15/
ATTACH;FMTTYPE=image/jpeg:https://www.pastir.si/wp-content/uploads/2022/05/Mica.jpg
END:VEVENT
BEGIN:VEVENT
DTSTART;TZID=Europe/Ljubljana:20220507T150000
DTEND;TZID=Europe/Ljubljana:20220507T180000
DTSTAMP:20260425T011445
CREATED:20220415T084429Z
LAST-MODIFIED:20220415T084429Z
UID:9924-1651935600-1651946400@www.pastir.si
SUMMARY:Srečanje Alfa gostiteljev
DESCRIPTION:Skupen ogled “Leadership Conference 2022” in priložnost za molitev\, slavljenje\, srečanje.
URL:https://www.pastir.si/dogodek/srecanje-alfa-gostiteljev/
LOCATION:Elizabetin dom\, Slovenj Gradec\, Vorančev trg 5\, Slovenj Gradec\, 2380\, Slovenija
ATTACH;FMTTYPE=image/jpeg:https://www.pastir.si/wp-content/uploads/2022/04/konferenca_alfa.jpg
END:VEVENT
BEGIN:VEVENT
DTSTART;TZID=Europe/Ljubljana:20220501T120000
DTEND;TZID=Europe/Ljubljana:20220501T130000
DTSTAMP:20260425T011445
CREATED:20220415T075613Z
LAST-MODIFIED:20220415T083212Z
UID:9916-1651406400-1651410000@www.pastir.si
SUMMARY:Maša na Uršlji gori
DESCRIPTION:Vabljeni k sveti maši na Uršljo goro v nedeljo\, 1. maja ob 12. uri.
URL:https://www.pastir.si/dogodek/masa-na-urslji-gori/
ATTACH;FMTTYPE=image/jpeg:https://www.pastir.si/wp-content/uploads/2021/08/urslja_gora.jpg
END:VEVENT
BEGIN:VEVENT
DTSTART;VALUE=DATE:20220424
DTEND;VALUE=DATE:20220425
DTSTAMP:20260425T011445
CREATED:20220422T184149Z
LAST-MODIFIED:20220422T184149Z
UID:9972-1650758400-1650844799@www.pastir.si
SUMMARY:Bela nedelja\, nedelja Božjega usmiljenja
DESCRIPTION:Ime bela nedelja izvira iz starokrščanskih časov\, ko so novokrščenci\, ki so prejeli zakrament sv. krsta med velikonočno vigilijo\, ves teden po veliki noči prihajali k bogoslužju v belih oblačilih. Bela barva ima v bogoslužju močen simboličen pomen; je seštevek vseh barv mavrice\, izraža začetek in konec\, polnost in praznino. \nPovezanost praznika Božjega usmiljenja in 2. velikonočne nedelje kaže na simbol zveze med zakramentom svetega krsta\, velikonočno skrivnostjo odrešenja in Božjim usmiljenjem. S prejemom zakramenta krsta so pri novokrščenemu odpuščeni in očiščeni vsi grehi\, kar predstavlja razsežnost sprave med Bogom in človekom.
URL:https://www.pastir.si/dogodek/bela-nedelja-nedelja-bozjega-usmiljenja/
ATTACH;FMTTYPE=image/jpeg:https://www.pastir.si/wp-content/uploads/2022/04/bela-nedelja.jpg
END:VEVENT
BEGIN:VEVENT
DTSTART;TZID=Europe/Ljubljana:20220418T200000
DTEND;TZID=Europe/Ljubljana:20220418T210000
DTSTAMP:20260425T011445
CREATED:20220401T145401Z
LAST-MODIFIED:20220401T145401Z
UID:9822-1650312000-1650315600@www.pastir.si
SUMMARY:Na Zoomu z …
DESCRIPTION:Aprila se bomo družili z zaporniškim duhovnikom Robijem Friškovcem. Vabljeni!
URL:https://www.pastir.si/dogodek/na-zoomu-z-14/
ATTACH;FMTTYPE=image/jpeg:https://www.pastir.si/wp-content/uploads/2022/04/robi.jpg
END:VEVENT
BEGIN:VEVENT
DTSTART;TZID=Europe/Ljubljana:20220321T200000
DTEND;TZID=Europe/Ljubljana:20220321T210000
DTSTAMP:20260425T011445
CREATED:20220225T111954Z
LAST-MODIFIED:20220225T111954Z
UID:9539-1647892800-1647896400@www.pastir.si
SUMMARY:Na Zoomu z …
DESCRIPTION:V marcu bo naša gostja vzgojiteljica in mati Katja Ban. Vabljeni!
URL:https://www.pastir.si/dogodek/na-zoomu-z-13/
ATTACH;FMTTYPE=image/jpeg:https://www.pastir.si/wp-content/uploads/2022/02/katjaban.jpeg
END:VEVENT
BEGIN:VEVENT
DTSTART;TZID=Europe/Ljubljana:20220221T200000
DTEND;TZID=Europe/Ljubljana:20220221T210000
DTSTAMP:20260425T011445
CREATED:20220210T200348Z
LAST-MODIFIED:20220210T200348Z
UID:9463-1645473600-1645477200@www.pastir.si
SUMMARY:Na Zoomu z …
DESCRIPTION:Pridružite se nam tudi v februarju. Naš gost bo tokrat p. Peter Pučnik. Vabljeni!
URL:https://www.pastir.si/dogodek/na-zoomu-z-12/
ATTACH;FMTTYPE=image/jpeg:https://www.pastir.si/wp-content/uploads/2022/02/peter_pucnik.jpg
END:VEVENT
BEGIN:VEVENT
DTSTART;TZID=Europe/Ljubljana:20220131T200000
DTEND;TZID=Europe/Ljubljana:20220131T210000
DTSTAMP:20260425T011445
CREATED:20220125T183830Z
LAST-MODIFIED:20220125T183830Z
UID:9442-1643659200-1643662800@www.pastir.si
SUMMARY:Na Zoomu z …
DESCRIPTION:Tokrat bomo v posebnem srečanju gostili Albino in Mileno\, ki bosta spregovorili o misijonu v Venezueli\, ki sta jo v preteklem mesecu obiskali. Pridružite se nam.
URL:https://www.pastir.si/dogodek/na-zoomu-z-11/
ATTACH;FMTTYPE=image/jpeg:https://www.pastir.si/wp-content/uploads/2022/01/venezuela09.jpg
END:VEVENT
BEGIN:VEVENT
DTSTART;TZID=Europe/Ljubljana:20220117T200000
DTEND;TZID=Europe/Ljubljana:20220117T210000
DTSTAMP:20260425T011445
CREATED:20220111T090927Z
LAST-MODIFIED:20220111T090927Z
UID:9366-1642449600-1642453200@www.pastir.si
SUMMARY:Na Zoomu z …
DESCRIPTION:V novem letu bosta prva gosta našega srečanja Mojca in Simon Purger. Vabljeni!
URL:https://www.pastir.si/dogodek/na-zoomu-z-10/
ATTACH;FMTTYPE=image/jpeg:https://www.pastir.si/wp-content/uploads/2022/01/mojca_simon.jpg
END:VEVENT
BEGIN:VEVENT
DTSTART;TZID=Europe/Ljubljana:20220108T200000
DTEND;TZID=Europe/Ljubljana:20220108T213000
DTSTAMP:20260425T011445
CREATED:20220102T110804Z
LAST-MODIFIED:20220102T110804Z
UID:9345-1641672000-1641677400@www.pastir.si
SUMMARY:eSeminar za zakonce in pare
DESCRIPTION:Gosta: Verena in Andrej Perko
URL:https://www.pastir.si/dogodek/eseminar-za-zakonce-in-pare/
CATEGORIES:Srečanje
ATTACH;FMTTYPE=image/jpeg:https://www.pastir.si/wp-content/uploads/2022/01/perko.jpg
END:VEVENT
BEGIN:VEVENT
DTSTART;VALUE=DATE:20220108
DTEND;VALUE=DATE:20220109
DTSTAMP:20260425T011445
CREATED:20210922T135824Z
LAST-MODIFIED:20210922T135824Z
UID:8737-1641600000-1641686399@www.pastir.si
SUMMARY:Trikraljevska akcija
DESCRIPTION:Sprejmimo modre\, ki oznanjajo radostno novico! :) Podprimo njihova plemenita prizadevanja za pomoč misijonarjem.
URL:https://www.pastir.si/dogodek/trikraljevska-akcija/
ATTACH;FMTTYPE=image/jpeg:https://www.pastir.si/wp-content/uploads/2021/09/Trikraljevska.jpg
END:VEVENT
BEGIN:VEVENT
DTSTART;TZID=Europe/Ljubljana:20211214T200000
DTEND;TZID=Europe/Ljubljana:20211214T210000
DTSTAMP:20260425T011445
CREATED:20211106T095116Z
LAST-MODIFIED:20211123T142637Z
UID:8967-1639512000-1639515600@www.pastir.si
SUMMARY:Na Zoomu z …
DESCRIPTION:V adventnem času se nam pridružite ob torkih. Na tretjem adventnem srečanju bomo gostili moža in očeta Klemna Klemna.\nPovezava do zoom dogodka: https://us02web.zoom.us/j/84325660397?pwd=Qis1MkYyUVZ0REI1eEpMdzBkR3kvQT09
URL:https://www.pastir.si/dogodek/na-zoomu-z-9/
ATTACH;FMTTYPE=image/jpeg:https://www.pastir.si/wp-content/uploads/2021/11/klemen-klemen.jpg
END:VEVENT
BEGIN:VEVENT
DTSTART;TZID=Europe/Ljubljana:20211210T201500
DTEND;TZID=Europe/Ljubljana:20211210T213000
DTSTAMP:20260425T011445
CREATED:20211123T143233Z
LAST-MODIFIED:20211123T143233Z
UID:9007-1639167300-1639171800@www.pastir.si
SUMMARY:Adventna E-duhovna obnova
DESCRIPTION:Za sinodalno Cerkev – občestvo\, sodelovanje\, poslanstvo
URL:https://www.pastir.si/dogodek/adventna-e-duhovna-obnova/
ATTACH;FMTTYPE=image/jpeg:https://www.pastir.si/wp-content/uploads/2021/11/Postna-duhovna-obnova.jpg
END:VEVENT
BEGIN:VEVENT
DTSTART;TZID=Europe/Ljubljana:20211207T200000
DTEND;TZID=Europe/Ljubljana:20211207T210000
DTSTAMP:20260425T011445
CREATED:20211106T095016Z
LAST-MODIFIED:20211123T142659Z
UID:8963-1638907200-1638910800@www.pastir.si
SUMMARY:Na Zoomu z …
DESCRIPTION:V adventnem času se nam pridružite ob torkih. Na drugem adventnem srečanju bomo gostili uršolinko Jano Rovtar.\nPovezava do zoom dogodka: https://us02web.zoom.us/j/84325660397?pwd=Qis1MkYyUVZ0REI1eEpMdzBkR3kvQT09
URL:https://www.pastir.si/dogodek/na-zoomu-z-8/
ATTACH;FMTTYPE=image/jpeg:https://www.pastir.si/wp-content/uploads/2021/11/Jana-Rovtar.jpg
END:VEVENT
BEGIN:VEVENT
DTSTART;VALUE=DATE:20211205
DTEND;VALUE=DATE:20211206
DTSTAMP:20260425T011445
CREATED:20210922T135524Z
LAST-MODIFIED:20210922T135524Z
UID:8726-1638662400-1638748799@www.pastir.si
SUMMARY:Miklavževanje
DESCRIPTION:Sveti Miklavž že peče piškote … Le kako nas bo letos presenetil? :)
URL:https://www.pastir.si/dogodek/miklavzevanje/
ATTACH;FMTTYPE=image/jpeg:https://www.pastir.si/wp-content/uploads/2021/09/Miklavzevanje.jpg
END:VEVENT
BEGIN:VEVENT
DTSTART;TZID=Europe/Ljubljana:20211130T200000
DTEND;TZID=Europe/Ljubljana:20211130T210000
DTSTAMP:20260425T011445
CREATED:20211025T195613Z
LAST-MODIFIED:20211123T142501Z
UID:8906-1638302400-1638306000@www.pastir.si
SUMMARY:Na Zoomu z …
DESCRIPTION:V adventnem času se nam pridružite ob torkih. Na prvem adventnem srečanju bomo gostili brata Luko Modica.\nPovezava do zoom dogodka: https://us02web.zoom.us/j/84325660397?pwd=Qis1MkYyUVZ0REI1eEpMdzBkR3kvQT09
URL:https://www.pastir.si/dogodek/na-zoomu-z-7/
ATTACH;FMTTYPE=image/jpeg:https://www.pastir.si/wp-content/uploads/2021/10/luka-modic.jpg
END:VEVENT
BEGIN:VEVENT
DTSTART;TZID=Europe/Ljubljana:20211114T080000
DTEND;TZID=Europe/Ljubljana:20211114T090000
DTSTAMP:20260425T011445
CREATED:20210812T185040Z
LAST-MODIFIED:20210812T185040Z
UID:8549-1636876800-1636880400@www.pastir.si
SUMMARY:Lepa nedelja v Slovenj Gradcu
DESCRIPTION:Znaš našteti vsaj pet dejstev o naši zavetnici? Ob njenem godu popraznujmo s sv. Elizabeto ob 8. uri. Se vidimo!
URL:https://www.pastir.si/dogodek/lepa-nedelja-v-slovenj-gradcu/
ATTACH;FMTTYPE=image/jpeg:https://www.pastir.si/wp-content/uploads/2020/11/sg_sv_elizabeta.jpg
END:VEVENT
BEGIN:VEVENT
DTSTART;VALUE=DATE:20211104
DTEND;VALUE=DATE:20211108
DTSTAMP:20260425T011445
CREATED:20211025T193726Z
LAST-MODIFIED:20211025T193805Z
UID:8901-1635984000-1636329599@www.pastir.si
SUMMARY:Duhovne vaje za odrasle
DESCRIPTION:Nazarje\, 4. do 7. november 2021\nVodi: Simon Potnik\nPrispevek: 149 eur + 1 eur za RadiBiŽiveli\nPrijave: pisarna@pastir.si
URL:https://www.pastir.si/dogodek/duhovne-vaje-za-odrasle/
ATTACH;FMTTYPE=image/jpeg:https://www.pastir.si/wp-content/uploads/2021/10/cross.jpg
END:VEVENT
END:VCALENDAR