BEGIN:VCALENDAR
VERSION:2.0
PRODID:-//Pastoralna zveza župnij Slovenj Gradec - ECPv6.15.20//NONSGML v1.0//EN
CALSCALE:GREGORIAN
METHOD:PUBLISH
X-WR-CALNAME:Pastoralna zveza župnij Slovenj Gradec
X-ORIGINAL-URL:https://www.pastir.si
X-WR-CALDESC:Dogodki za Pastoralna zveza župnij Slovenj Gradec
REFRESH-INTERVAL;VALUE=DURATION:PT1H
X-Robots-Tag:noindex
X-PUBLISHED-TTL:PT1H
BEGIN:VTIMEZONE
TZID:Europe/Ljubljana
BEGIN:DAYLIGHT
TZOFFSETFROM:+0100
TZOFFSETTO:+0200
TZNAME:CEST
DTSTART:20190331T010000
END:DAYLIGHT
BEGIN:STANDARD
TZOFFSETFROM:+0200
TZOFFSETTO:+0100
TZNAME:CET
DTSTART:20191027T010000
END:STANDARD
BEGIN:DAYLIGHT
TZOFFSETFROM:+0100
TZOFFSETTO:+0200
TZNAME:CEST
DTSTART:20200329T010000
END:DAYLIGHT
BEGIN:STANDARD
TZOFFSETFROM:+0200
TZOFFSETTO:+0100
TZNAME:CET
DTSTART:20201025T010000
END:STANDARD
BEGIN:DAYLIGHT
TZOFFSETFROM:+0100
TZOFFSETTO:+0200
TZNAME:CEST
DTSTART:20210328T010000
END:DAYLIGHT
BEGIN:STANDARD
TZOFFSETFROM:+0200
TZOFFSETTO:+0100
TZNAME:CET
DTSTART:20211031T010000
END:STANDARD
BEGIN:DAYLIGHT
TZOFFSETFROM:+0100
TZOFFSETTO:+0200
TZNAME:CEST
DTSTART:20220327T010000
END:DAYLIGHT
BEGIN:STANDARD
TZOFFSETFROM:+0200
TZOFFSETTO:+0100
TZNAME:CET
DTSTART:20221030T010000
END:STANDARD
END:VTIMEZONE
BEGIN:VEVENT
DTSTART;TZID=Europe/Ljubljana:20210215T200000
DTEND;TZID=Europe/Ljubljana:20210215T210000
DTSTAMP:20260425T163826
CREATED:20210114T050055Z
LAST-MODIFIED:20210114T082943Z
UID:6602-1613419200-1613422800@www.pastir.si
SUMMARY:Na Zoomu z ...
DESCRIPTION:Gost: Janez Cigler Kralj \nVsak 3. ponedeljek ob 20.00 bo z nami gost ali gostja\, po zgledu naših adventnih druženj\, ki so bila tako lepo sprejeta. \nPridružite se nam in skupaj bomo odkrivali\, kako je Življenje lepo.
URL:https://www.pastir.si/dogodek/na-zoomu-z-2/
CATEGORIES:Srečanje
ATTACH;FMTTYPE=image/jpeg:https://www.pastir.si/wp-content/uploads/2021/01/janez-cigler-kralj.jpg
END:VEVENT
BEGIN:VEVENT
DTSTART;TZID=Europe/Ljubljana:20210211T200000
DTEND;TZID=Europe/Ljubljana:20210211T210000
DTSTAMP:20260425T163826
CREATED:20210206T093455Z
LAST-MODIFIED:20210206T093455Z
UID:6924-1613073600-1613077200@www.pastir.si
SUMMARY:Teologija telesa
DESCRIPTION:Serija eKatehez za mlade \nVsak četrtek ob 20. uri
URL:https://www.pastir.si/dogodek/teologija-telesa-4/
CATEGORIES:eKateheza
ATTACH;FMTTYPE=image/jpeg:https://www.pastir.si/wp-content/uploads/2021/01/teologija-telesa.jpg
END:VEVENT
BEGIN:VEVENT
DTSTART;TZID=Europe/Ljubljana:20210208T170000
DTEND;TZID=Europe/Ljubljana:20210208T183000
DTSTAMP:20260425T163826
CREATED:20210201T144744Z
LAST-MODIFIED:20210201T144744Z
UID:6897-1612803600-1612809000@www.pastir.si
SUMMARY:Zoom v neznano
DESCRIPTION:Dan Mladih A\, nosilcev in katehetov
URL:https://www.pastir.si/dogodek/zoom-v-neznano/
ATTACH;FMTTYPE=image/jpeg:https://www.pastir.si/wp-content/uploads/2021/02/animadan.jpg
END:VEVENT
BEGIN:VEVENT
DTSTART;TZID=Europe/Ljubljana:20210204T200000
DTEND;TZID=Europe/Ljubljana:20210204T210000
DTSTAMP:20260425T163826
CREATED:20210129T120021Z
LAST-MODIFIED:20210129T121216Z
UID:6873-1612468800-1612472400@www.pastir.si
SUMMARY:Teologija telesa
DESCRIPTION:Serija eKatehez za mlade \nVsak četrtek ob 20. uri
URL:https://www.pastir.si/dogodek/teologija-telesa-3/
CATEGORIES:eKateheza
ATTACH;FMTTYPE=image/jpeg:https://www.pastir.si/wp-content/uploads/2021/01/teologija-telesa.jpg
END:VEVENT
BEGIN:VEVENT
DTSTART;TZID=Europe/Ljubljana:20210128T200000
DTEND;TZID=Europe/Ljubljana:20210128T210000
DTSTAMP:20260425T163826
CREATED:20210123T083932Z
LAST-MODIFIED:20210123T083932Z
UID:6828-1611864000-1611867600@www.pastir.si
SUMMARY:Teologija telesa
DESCRIPTION:Serija eKatehez za mlade \nVsak četrtek ob 20. uri
URL:https://www.pastir.si/dogodek/teologija-telesa-2/
CATEGORIES:eKateheza
ATTACH;FMTTYPE=image/jpeg:https://www.pastir.si/wp-content/uploads/2021/01/teologija-telesa.jpg
END:VEVENT
BEGIN:VEVENT
DTSTART;TZID=Europe/Ljubljana:20210121T200000
DTEND;TZID=Europe/Ljubljana:20210121T210000
DTSTAMP:20260425T163826
CREATED:20210114T082411Z
LAST-MODIFIED:20210114T082608Z
UID:6721-1611259200-1611262800@www.pastir.si
SUMMARY:Teologija telesa
DESCRIPTION:Serija eKatehez za mlade \nVsak četrtek ob 20. uri
URL:https://www.pastir.si/dogodek/teologija-telesa/
CATEGORIES:eKateheza
ATTACH;FMTTYPE=image/jpeg:https://www.pastir.si/wp-content/uploads/2021/01/teologija-telesa.jpg
END:VEVENT
BEGIN:VEVENT
DTSTART;TZID=Europe/Ljubljana:20201229T200000
DTEND;TZID=Europe/Ljubljana:20201229T213000
DTSTAMP:20260425T163826
CREATED:20201215T100923Z
LAST-MODIFIED:20201229T103711Z
UID:6205-1609272000-1609277400@www.pastir.si
SUMMARY:Božično druženje s sestro Andrejo Godnič
DESCRIPTION:Srečanje z misijonarko iz Venezuele preko Zoom-a
URL:https://www.pastir.si/dogodek/bozicno-druzenje-s-sestro-adrejo-godnic/
ATTACH;FMTTYPE=image/jpeg:https://www.pastir.si/wp-content/uploads/2020/12/andreja-godnic.jpg
END:VEVENT
BEGIN:VEVENT
DTSTART;TZID=Europe/Ljubljana:20201218T190000
DTEND;TZID=Europe/Ljubljana:20201220T110000
DTSTAMP:20260425T163826
CREATED:20201214T111504Z
LAST-MODIFIED:20201214T111504Z
UID:6171-1608318000-1608462000@www.pastir.si
SUMMARY:eDuhovna obnova za moške
DESCRIPTION:
URL:https://www.pastir.si/dogodek/eduhovna-obnova-za-moske/
ATTACH;FMTTYPE=image/jpeg:https://www.pastir.si/wp-content/uploads/2020/12/bogzaupavame.jpg
END:VEVENT
END:VCALENDAR