BEGIN:VCALENDAR
VERSION:2.0
PRODID:-//Pastoralna zveza župnij Slovenj Gradec - ECPv6.15.20//NONSGML v1.0//EN
CALSCALE:GREGORIAN
METHOD:PUBLISH
X-WR-CALNAME:Pastoralna zveza župnij Slovenj Gradec
X-ORIGINAL-URL:https://www.pastir.si
X-WR-CALDESC:Dogodki za Pastoralna zveza župnij Slovenj Gradec
REFRESH-INTERVAL;VALUE=DURATION:PT1H
X-Robots-Tag:noindex
X-PUBLISHED-TTL:PT1H
BEGIN:VTIMEZONE
TZID:Europe/Ljubljana
BEGIN:DAYLIGHT
TZOFFSETFROM:+0100
TZOFFSETTO:+0200
TZNAME:CEST
DTSTART:20190331T010000
END:DAYLIGHT
BEGIN:STANDARD
TZOFFSETFROM:+0200
TZOFFSETTO:+0100
TZNAME:CET
DTSTART:20191027T010000
END:STANDARD
BEGIN:DAYLIGHT
TZOFFSETFROM:+0100
TZOFFSETTO:+0200
TZNAME:CEST
DTSTART:20200329T010000
END:DAYLIGHT
BEGIN:STANDARD
TZOFFSETFROM:+0200
TZOFFSETTO:+0100
TZNAME:CET
DTSTART:20201025T010000
END:STANDARD
BEGIN:DAYLIGHT
TZOFFSETFROM:+0100
TZOFFSETTO:+0200
TZNAME:CEST
DTSTART:20210328T010000
END:DAYLIGHT
BEGIN:STANDARD
TZOFFSETFROM:+0200
TZOFFSETTO:+0100
TZNAME:CET
DTSTART:20211031T010000
END:STANDARD
END:VTIMEZONE
BEGIN:VEVENT
DTSTART;TZID=Europe/Ljubljana:20201229T200000
DTEND;TZID=Europe/Ljubljana:20201229T213000
DTSTAMP:20260425T162130
CREATED:20201215T100923Z
LAST-MODIFIED:20201229T103711Z
UID:6205-1609272000-1609277400@www.pastir.si
SUMMARY:Božično druženje s sestro Andrejo Godnič
DESCRIPTION:Srečanje z misijonarko iz Venezuele preko Zoom-a
URL:https://www.pastir.si/dogodek/bozicno-druzenje-s-sestro-adrejo-godnic/
ATTACH;FMTTYPE=image/jpeg:https://www.pastir.si/wp-content/uploads/2020/12/andreja-godnic.jpg
END:VEVENT
BEGIN:VEVENT
DTSTART;TZID=Europe/Ljubljana:20201218T190000
DTEND;TZID=Europe/Ljubljana:20201220T110000
DTSTAMP:20260425T162130
CREATED:20201214T111504Z
LAST-MODIFIED:20201214T111504Z
UID:6171-1608318000-1608462000@www.pastir.si
SUMMARY:eDuhovna obnova za moške
DESCRIPTION:
URL:https://www.pastir.si/dogodek/eduhovna-obnova-za-moske/
ATTACH;FMTTYPE=image/jpeg:https://www.pastir.si/wp-content/uploads/2020/12/bogzaupavame.jpg
END:VEVENT
END:VCALENDAR