BEGIN:VCALENDAR
VERSION:2.0
PRODID:-//Pastoralna zveza župnij Slovenj Gradec - ECPv6.15.20//NONSGML v1.0//EN
CALSCALE:GREGORIAN
METHOD:PUBLISH
X-WR-CALNAME:Pastoralna zveza župnij Slovenj Gradec
X-ORIGINAL-URL:https://www.pastir.si
X-WR-CALDESC:Dogodki za Pastoralna zveza župnij Slovenj Gradec
REFRESH-INTERVAL;VALUE=DURATION:PT1H
X-Robots-Tag:noindex
X-PUBLISHED-TTL:PT1H
BEGIN:VTIMEZONE
TZID:Europe/Ljubljana
BEGIN:DAYLIGHT
TZOFFSETFROM:+0100
TZOFFSETTO:+0200
TZNAME:CEST
DTSTART:20230326T010000
END:DAYLIGHT
BEGIN:STANDARD
TZOFFSETFROM:+0200
TZOFFSETTO:+0100
TZNAME:CET
DTSTART:20231029T010000
END:STANDARD
BEGIN:DAYLIGHT
TZOFFSETFROM:+0100
TZOFFSETTO:+0200
TZNAME:CEST
DTSTART:20240331T010000
END:DAYLIGHT
BEGIN:STANDARD
TZOFFSETFROM:+0200
TZOFFSETTO:+0100
TZNAME:CET
DTSTART:20241027T010000
END:STANDARD
BEGIN:DAYLIGHT
TZOFFSETFROM:+0100
TZOFFSETTO:+0200
TZNAME:CEST
DTSTART:20250330T010000
END:DAYLIGHT
BEGIN:STANDARD
TZOFFSETFROM:+0200
TZOFFSETTO:+0100
TZNAME:CET
DTSTART:20251026T010000
END:STANDARD
BEGIN:DAYLIGHT
TZOFFSETFROM:+0100
TZOFFSETTO:+0200
TZNAME:CEST
DTSTART:20260329T010000
END:DAYLIGHT
BEGIN:STANDARD
TZOFFSETFROM:+0200
TZOFFSETTO:+0100
TZNAME:CET
DTSTART:20261025T010000
END:STANDARD
END:VTIMEZONE
BEGIN:VEVENT
DTSTART;TZID=Europe/Ljubljana:20250522T170000
DTEND;TZID=Europe/Ljubljana:20250525T150000
DTSTAMP:20260422T030420
CREATED:20250415T132839Z
LAST-MODIFIED:20250415T132839Z
UID:13753-1747933200-1748185200@www.pastir.si
SUMMARY:Pastirjev RadŽivim
DESCRIPTION:Pastirjev RadŽivim | 22.– 25. maja 2025 | Pastoralni dom Stellamartis\, Strunjan\n\nVikend v maju bo kot nalašč za to\, da nekoliko zaustaviš divjanje svojega vsakdana ter si privoščiš aktiven in poln podaljšan vikend na morju. Na Pastirjevem RadŽivimu se bomo letos ob pomladnem soncu in morju zbrali vsi\, ki radi živimo. To je preprosto čas\, ko ti je lepo in si z nekom\, ki ga imaš rad. Čaka te sproščeno druženje vseh generacij. \n 
URL:https://www.pastir.si/dogodek/pastirjev-radzivim-2/
ATTACH;FMTTYPE=image/jpeg:https://www.pastir.si/wp-content/uploads/2021/03/radzivim_samski.jpg
END:VEVENT
BEGIN:VEVENT
DTSTART;TZID=Europe/Ljubljana:20250515T170000
DTEND;TZID=Europe/Ljubljana:20250518T150000
DTSTAMP:20260422T030420
CREATED:20220312T111335Z
LAST-MODIFIED:20250415T132755Z
UID:9703-1747328400-1747580400@www.pastir.si
SUMMARY:Pastirjev RadŽivim
DESCRIPTION:Pastirjev RadŽivim | 15.– 18. maja 2025 | Pastoralni dom Stellamartis\, Strunjan\n\nVikend v maju bo kot nalašč za to\, da nekoliko zaustaviš divjanje svojega vsakdana ter si privoščiš aktiven in poln podaljšan vikend na morju. Na Pastirjevem RadŽivimu se bomo letos ob pomladnem soncu in morju zbrali vsi\, ki radi živimo. To je preprosto čas\, ko ti je lepo in si z nekom\, ki ga imaš rad. Čaka te sproščeno druženje vseh generacij. \n 
URL:https://www.pastir.si/dogodek/pastirjev-radzivim/
ATTACH;FMTTYPE=image/jpeg:https://www.pastir.si/wp-content/uploads/2021/03/radzivim_samski.jpg
END:VEVENT
BEGIN:VEVENT
DTSTART;VALUE=DATE:20250513
DTEND;VALUE=DATE:20250514
DTSTAMP:20260422T030420
CREATED:20220507T205839Z
LAST-MODIFIED:20250415T132650Z
UID:10009-1747094400-1747180799@www.pastir.si
SUMMARY:Fatimska Mati Božja
DESCRIPTION:V Fatimi na Portugalskem se je Marija prikazala trem otrokom\, Jacinti (Hiacinti)\, Frančišku in Luciji 13. maja 1917 in potem še vsak mesec do 13. oktobra. \nPozdravljena\, Gospodova Mati\,\nDevica Marija\, Kraljica rožnega venca iz Fatime!\nBlagoslovljena si med ženami\,\npodoba Cerkve\, odeta z velikonočno lučjo\,\nčast našega ljudstva\,\nzmagoslavje nad zlom.
URL:https://www.pastir.si/dogodek/fatimska-mati-bozja/
ATTACH;FMTTYPE=image/jpeg:https://www.pastir.si/wp-content/uploads/2022/05/Fatimska-Marija.jpg
END:VEVENT
BEGIN:VEVENT
DTSTART;VALUE=DATE:20250511
DTEND;VALUE=DATE:20250512
DTSTAMP:20260422T030420
CREATED:20220507T205653Z
LAST-MODIFIED:20250415T132613Z
UID:10005-1746921600-1747007999@www.pastir.si
SUMMARY:Nedelja Dobrega pastirja
DESCRIPTION:Ko je zagledal množice\, so se mu zasmilile\, ker so bile izmučene in razkropljene kakor ovce\, ki nimajo pastirja. Tedaj je rekel svojim učencem: »Žetev je obilna\, delavcev pa malo. Prosíte torej Gospoda žetve\, naj pošlje delavce na svojo žetev.« (Mt 9\,36-38)
URL:https://www.pastir.si/dogodek/srecanje-alfa-gostiteljev-2/
ATTACH;FMTTYPE=image/jpeg:https://www.pastir.si/wp-content/uploads/2022/05/dobripastir.jpg
END:VEVENT
BEGIN:VEVENT
DTSTART;VALUE=DATE:20250501
DTEND;VALUE=DATE:20250502
DTSTAMP:20260422T030420
CREATED:20220422T184351Z
LAST-MODIFIED:20250415T132514Z
UID:9975-1746057600-1746143999@www.pastir.si
SUMMARY:Sv. Jožef\, delavec
DESCRIPTION:Sveti Jožef\, rednik Sina Božjega\, skrbni branitelj Kristusov\, glavar Svete družine\, najpravičnejši\, ogledalo potrpežljivosti\, zgled delavcev\, kras domačega življenja … prosi za nas! Se vidimo pri sveti maši\, pa še šmarnice se začnejo!
URL:https://www.pastir.si/dogodek/sv-jozef-delavec/
ATTACH;FMTTYPE=image/jpeg:https://www.pastir.si/wp-content/uploads/2022/04/jozef.jpg
END:VEVENT
BEGIN:VEVENT
DTSTART;VALUE=DATE:20250501
DTEND;VALUE=DATE:20250505
DTSTAMP:20260422T030420
CREATED:20210605T085518Z
LAST-MODIFIED:20250415T132446Z
UID:8260-1746057600-1746403199@www.pastir.si
SUMMARY:Romanje v Rim
DESCRIPTION:V jubilejnem letu je posebna milost romati v Rim. Poromamo lahko tudi skupaj. Za več informacij in prijave spremljajte oznanila in pastir.si.
URL:https://www.pastir.si/dogodek/romanje-od-sv-jakoba-do-sv-ane/
ATTACH;FMTTYPE=image/jpeg:https://www.pastir.si/wp-content/uploads/2024/11/rim.jpg
END:VEVENT
BEGIN:VEVENT
DTSTART;TZID=Europe/Ljubljana:20250425T170000
DTEND;TZID=Europe/Ljubljana:20250427T150000
DTSTAMP:20260422T030420
CREATED:20250415T132254Z
LAST-MODIFIED:20250415T132254Z
UID:13743-1745600400-1745766000@www.pastir.si
SUMMARY:Družinski RadŽivim
DESCRIPTION:Družinski RadŽivim že tradicionalno poteka v Veržeju. Družine se povežejo med seboj in z Bogom\, ob tem pa se nabere kar nekaj nepozabnih spominov. Bodimo z njimi v molitvi!
URL:https://www.pastir.si/dogodek/druzinski-radzivim-2/
ATTACH;FMTTYPE=image/jpeg:https://www.pastir.si/wp-content/uploads/2022/03/teden_druzine.jpg
END:VEVENT
BEGIN:VEVENT
DTSTART;VALUE=DATE:20250420
DTEND;VALUE=DATE:20250421
DTSTAMP:20260422T030420
CREATED:20240110T165119Z
LAST-MODIFIED:20250226T204635Z
UID:12198-1745107200-1745193599@www.pastir.si
SUMMARY:Velika noč
DESCRIPTION:Aleluja\, Kristus je vstal! Praznujmo skupaj. \n(Ne zamudimo ga – prestavimo uro. :))
URL:https://www.pastir.si/dogodek/velika-noc/
CATEGORIES:Družina
ATTACH;FMTTYPE=image/jpeg:https://www.pastir.si/wp-content/uploads/2020/05/utrinki-korona-verouka-velika-noc-01.jpg
END:VEVENT
BEGIN:VEVENT
DTSTART;VALUE=DATE:20250417
DTEND;VALUE=DATE:20250420
DTSTAMP:20260422T030420
CREATED:20240110T164940Z
LAST-MODIFIED:20250226T204609Z
UID:12196-1744848000-1745107199@www.pastir.si
SUMMARY:Sveto tridnevje
DESCRIPTION:Ne zamudimo bogatega obredja svetega tridnevja. Pridružimo se Jezusu in učencem pri zadnji večerji\, čujmo ob njih v vrtu Getsemani\, spremljajmo njegov križev pot in počastimo umrlega Zveličarja.
URL:https://www.pastir.si/dogodek/sveto-tridnevje/
CATEGORIES:Družina
ATTACH;FMTTYPE=image/jpeg:https://www.pastir.si/wp-content/uploads/2020/04/velikonocno-tridnevje.jpg
END:VEVENT
BEGIN:VEVENT
DTSTART;TZID=Europe/Ljubljana:20250416T190000
DTEND;TZID=Europe/Ljubljana:20250416T210000
DTSTAMP:20260422T030420
CREATED:20240110T164826Z
LAST-MODIFIED:20250226T204534Z
UID:12193-1744830000-1744837200@www.pastir.si
SUMMARY:Pashalna večerja
DESCRIPTION:Pashalna večerja je posebno doživetje\, ki nas pobliže uvede v skrivnostno dogajanje zadnje večerje. Prijave na pastir.si.
URL:https://www.pastir.si/dogodek/pashalna-vecerja/
CATEGORIES:Družina
ATTACH;FMTTYPE=image/jpeg:https://www.pastir.si/wp-content/uploads/2024/01/pasha.jpg
END:VEVENT
BEGIN:VEVENT
DTSTART;TZID=Europe/Ljubljana:20250413T170000
DTEND;TZID=Europe/Ljubljana:20250413T190000
DTSTAMP:20260422T030420
CREATED:20230301T173620Z
LAST-MODIFIED:20250226T204448Z
UID:11219-1744563600-1744570800@www.pastir.si
SUMMARY:Dekanijsko spovedovanje
DESCRIPTION:Na cvetno nedeljo bo v Slovenj Gradcu priložnost za spoved pri različnih spovednikih. Vabljeni\, da se tako zares pripravimo na praznovanje velike noči!
URL:https://www.pastir.si/dogodek/spovedni-in-molitveni-dan/
CATEGORIES:Srečanje
ATTACH;FMTTYPE=image/jpeg:https://www.pastir.si/wp-content/uploads/2023/03/najsvetejse.jpg
END:VEVENT
BEGIN:VEVENT
DTSTART;VALUE=DATE:20250413
DTEND;VALUE=DATE:20250414
DTSTAMP:20260422T030420
CREATED:20240110T164059Z
LAST-MODIFIED:20250226T204356Z
UID:12190-1744502400-1744588799@www.pastir.si
SUMMARY:Cvetna nedelja
DESCRIPTION:Jezusov slovesni prihod v Jeruzalem zaznamuje zelenje – pa naj bodo palmovi listi\, butare ali snopi.
URL:https://www.pastir.si/dogodek/cvetna-nedelja/
CATEGORIES:Družina
ATTACH;FMTTYPE=image/jpeg:https://www.pastir.si/wp-content/uploads/2020/04/cvetna-nedelja-01.jpg
END:VEVENT
BEGIN:VEVENT
DTSTART;VALUE=DATE:20250411
DTEND;VALUE=DATE:20250412
DTSTAMP:20260422T030420
CREATED:20250226T204309Z
LAST-MODIFIED:20250226T204309Z
UID:13529-1744329600-1744415999@www.pastir.si
SUMMARY:Spovedni in molitveni dan
DESCRIPTION:Danes je posebej dobra priložnost za spoved in molitev pred Najsvetejšim v Slovenj Gradcu. Mimogrede\, ne pozabimo na radijski misijon na Radiu Ognjišče. :)
URL:https://www.pastir.si/dogodek/spovedni-in-molitveni-dan-2/
CATEGORIES:Srečanje
ATTACH;FMTTYPE=image/jpeg:https://www.pastir.si/wp-content/uploads/2023/03/najsvetejse.jpg
END:VEVENT
BEGIN:VEVENT
DTSTART;TZID=Europe/Ljubljana:20250407T150000
DTEND;TZID=Europe/Ljubljana:20250407T180000
DTSTAMP:20260422T030420
CREATED:20250226T204207Z
LAST-MODIFIED:20250226T204207Z
UID:13527-1744038000-1744048800@www.pastir.si
SUMMARY:Izdelovanje snopov
DESCRIPTION:Sodelavci Karitas vabijo k skupnemu izdelovanju snopov v Elizabetinem domu. Več nas je\, lepše je …
URL:https://www.pastir.si/dogodek/izdelovanje-snopov/
CATEGORIES:Družina
ATTACH;FMTTYPE=image/jpeg:https://www.pastir.si/wp-content/uploads/2020/03/blagoslov-zelenja-cvetna-nedelja.jpg
END:VEVENT
BEGIN:VEVENT
DTSTART;VALUE=DATE:20250325
DTEND;VALUE=DATE:20250326
DTSTAMP:20260422T030420
CREATED:20240110T163937Z
LAST-MODIFIED:20250226T204041Z
UID:12188-1742860800-1742947199@www.pastir.si
SUMMARY:Gospodovo oznanjenje
DESCRIPTION:Pozor\, letos praznik Gospodovega oznanjenja zaradi termina velike noči obhajamo že 23. marca. Se vidimo pri sveti maši!
URL:https://www.pastir.si/dogodek/gospodovo-oznanjenje/
CATEGORIES:Družina
ATTACH;FMTTYPE=image/jpeg:https://www.pastir.si/wp-content/uploads/2020/03/praznik-gospodovega-oznanjenja-01.jpg
END:VEVENT
BEGIN:VEVENT
DTSTART;VALUE=DATE:20250321
DTEND;VALUE=DATE:20250323
DTSTAMP:20260422T030420
CREATED:20250226T203943Z
LAST-MODIFIED:20250226T203943Z
UID:13525-1742515200-1742687999@www.pastir.si
SUMMARY:Priprava na zakon
DESCRIPTION:Priprava na krščanski zakon v naši pastoralni zvezi traja dva vikenda: 14. in 15. marca\, 21. in 22. marca (vsakič ob 18.00) ter 23. marca (ob 10.00).\nPrijave na pastir.si.
URL:https://www.pastir.si/dogodek/priprava-na-zakon/
ATTACH;FMTTYPE=image/jpeg:https://www.pastir.si/wp-content/uploads/2021/03/Tecaj-za-zakon.jpg
END:VEVENT
BEGIN:VEVENT
DTSTART;VALUE=DATE:20250319
DTEND;VALUE=DATE:20250320
DTSTAMP:20260422T030420
CREATED:20240110T163805Z
LAST-MODIFIED:20250226T204015Z
UID:12186-1742342400-1742428799@www.pastir.si
SUMMARY:Sv. Jožef
DESCRIPTION:Na praznik sv. Jožefa\, ki je tudi dan očetov\, vstopamo v teden družine. Priporočimo se zavetniku družin in slovenskih dežel\, lahko pa tudi zavijemo na Jožefov sejem. ;)
URL:https://www.pastir.si/dogodek/sv-jozef/
CATEGORIES:Družina
ATTACH;FMTTYPE=image/jpeg:https://www.pastir.si/wp-content/uploads/2021/03/sveti-jozef_.jpg
END:VEVENT
BEGIN:VEVENT
DTSTART;VALUE=DATE:20250314
DTEND;VALUE=DATE:20250316
DTSTAMP:20260422T030420
CREATED:20210303T183359Z
LAST-MODIFIED:20250226T203920Z
UID:7310-1741910400-1742083199@www.pastir.si
SUMMARY:Priprava na zakon
DESCRIPTION:Priprava na krščanski zakon v naši pastoralni zvezi traja dva vikenda: 14. in 15. marca\, 21. in 22. marca (vsakič ob 18.00) ter 23. marca (ob 10.00).\nPrijave na pastir.si.
URL:https://www.pastir.si/dogodek/tecaj-priprave-na-zakon/
ATTACH;FMTTYPE=image/jpeg:https://www.pastir.si/wp-content/uploads/2021/03/Tecaj-za-zakon.jpg
END:VEVENT
BEGIN:VEVENT
DTSTART;TZID=Europe/Ljubljana:20250309T100000
DTEND;TZID=Europe/Ljubljana:20250313T180000
DTSTAMP:20260422T030420
CREATED:20220201T150530Z
LAST-MODIFIED:20250226T203735Z
UID:9449-1741514400-1741888800@www.pastir.si
SUMMARY:RadŽivim za seniorje I
DESCRIPTION:RadŽivim za seniorje privabi vsako leto več udeležencev. Zadnja leta se dogaja v Veržeju. Udeleženci se povežejo med seboj in z Bogom\, ob tem pa se nabere kar nekaj nepozabnih spominov. Bodimo z njimi v molitvi!
URL:https://www.pastir.si/dogodek/radzivim-za-seniorje/
CATEGORIES:Srečanje
ATTACH;FMTTYPE=image/jpeg:https://www.pastir.si/wp-content/uploads/2022/02/seniorji.jpg
END:VEVENT
BEGIN:VEVENT
DTSTART;VALUE=DATE:20250307
DTEND;VALUE=DATE:20250310
DTSTAMP:20260422T030421
CREATED:20221116T155926Z
LAST-MODIFIED:20250226T203632Z
UID:10577-1741305600-1741564799@www.pastir.si
SUMMARY:Duhovne vaje za mlade
DESCRIPTION:Ne bojte se!
URL:https://www.pastir.si/dogodek/duhovne-vaje-za-mlade-2/
CATEGORIES:Srečanje
ATTACH;FMTTYPE=image/jpeg:https://www.pastir.si/wp-content/uploads/2021/10/mladi.jpg
END:VEVENT
BEGIN:VEVENT
DTSTART;VALUE=DATE:20250305
DTEND;VALUE=DATE:20250306
DTSTAMP:20260422T030421
CREATED:20240110T162942Z
LAST-MODIFIED:20250226T203222Z
UID:12173-1741132800-1741219199@www.pastir.si
SUMMARY:Pepelnica
DESCRIPTION:S pepeljenjem začenjamo postni čas\, ki traja vse do velike noči. Preveri\, kdaj vse bodo v prihodnjih tednih križevi poti …
URL:https://www.pastir.si/dogodek/pepelnica/
CATEGORIES:Družina
ATTACH;FMTTYPE=image/jpeg:https://www.pastir.si/wp-content/uploads/2024/01/pepelnica_.jpg
END:VEVENT
BEGIN:VEVENT
DTSTART;VALUE=DATE:20250202
DTEND;VALUE=DATE:20250203
DTSTAMP:20260422T030421
CREATED:20240110T161906Z
LAST-MODIFIED:20241121T174651Z
UID:12167-1738454400-1738540799@www.pastir.si
SUMMARY:Svečnica – Jezusovo darovanje v templju
DESCRIPTION:Se vidimo pri sveti maši. Ne pozabite sveč. :) Obenem pa bo danes tudi Blažev žegen!
URL:https://www.pastir.si/dogodek/svecnica-jezusovo-darovanje-v-templju/
CATEGORIES:Družina
ATTACH;FMTTYPE=image/jpeg:https://www.pastir.si/wp-content/uploads/2024/01/svecnica.jpg
END:VEVENT
BEGIN:VEVENT
DTSTART;TZID=Europe/Ljubljana:20250124T170000
DTEND;TZID=Europe/Ljubljana:20250126T150000
DTSTAMP:20260422T030421
CREATED:20220111T091952Z
LAST-MODIFIED:20241121T174624Z
UID:9369-1737738000-1737903600@www.pastir.si
SUMMARY:Družinski RadŽivim
DESCRIPTION:Družinski RadŽivim že tradicionalno poteka v Veržeju. Družine se povežejo med seboj in z Bogom\, ob tem pa se nabere kar nekaj nepozabnih spominov. Bodimo z njimi v molitvi!
URL:https://www.pastir.si/dogodek/druzinski-radzivim/
ATTACH;FMTTYPE=image/jpeg:https://www.pastir.si/wp-content/uploads/2022/03/teden_druzine.jpg
END:VEVENT
BEGIN:VEVENT
DTSTART;VALUE=DATE:20250124
DTEND;VALUE=DATE:20250126
DTSTAMP:20260422T030421
CREATED:20230123T172518Z
LAST-MODIFIED:20241121T174452Z
UID:10881-1737676800-1737849599@www.pastir.si
SUMMARY:Svetopisemski maraton
DESCRIPTION:Mini župnijski svetopisemski maraton bo tudi letos v obliki 24-urnega neprekinjenega branja Svetega pisma. Ob kateri uri prideš? :)
URL:https://www.pastir.si/dogodek/mini-svetopisemski-maraton/
LOCATION:Elizabetin dom\, Slovenj Gradec\, Vorančev trg 5\, Slovenj Gradec\, 2380\, Slovenija
CATEGORIES:Srečanje
ATTACH;FMTTYPE=image/jpeg:https://www.pastir.si/wp-content/uploads/2020/04/branje.jpg
END:VEVENT
BEGIN:VEVENT
DTSTART;VALUE=DATE:20250106
DTEND;VALUE=DATE:20250107
DTSTAMP:20260422T030421
CREATED:20240105T130540Z
LAST-MODIFIED:20241121T174412Z
UID:12105-1736121600-1736207999@www.pastir.si
SUMMARY:Gospodovo razglašenje in molitveni dan
DESCRIPTION:Kaj bo pa tvoj dar\, ki ga boš prinesel Novorojenemu? :) Pridi ga pozdravit v Najsvetejšem\, čaka te v cerkvi sv. Elizabete.
URL:https://www.pastir.si/dogodek/gospodovo-razglasenje-in-molitveni-dan/
ATTACH;FMTTYPE=image/jpeg:https://www.pastir.si/wp-content/uploads/2024/01/gospodovo_razglasenje.jpg
END:VEVENT
BEGIN:VEVENT
DTSTART;TZID=Europe/Ljubljana:20250105T100000
DTEND;TZID=Europe/Ljubljana:20250105T150000
DTSTAMP:20260422T030421
CREATED:20221215T103456Z
LAST-MODIFIED:20241121T174243Z
UID:6209-1736071200-1736089200@www.pastir.si
SUMMARY:Seminar za zakonce in pare
DESCRIPTION:Za več informacij in prijave spremljajte oznanila in pastir.si.
URL:https://www.pastir.si/dogodek/e-seminar-za-zakonce-in-pare/
CATEGORIES:Srečanje
ATTACH;FMTTYPE=image/jpeg:https://www.pastir.si/wp-content/uploads/2021/03/Tecaj-za-zakon.jpg
END:VEVENT
BEGIN:VEVENT
DTSTART;VALUE=DATE:20250101
DTEND;VALUE=DATE:20250102
DTSTAMP:20260422T030421
CREATED:20240105T130241Z
LAST-MODIFIED:20241121T174103Z
UID:12103-1735689600-1735775999@www.pastir.si
SUMMARY:Marija\, sveta Božja mati
DESCRIPTION:Srečno novo leto! Počastimo Marijo na njen praznik in jo pri sveti maši še posebej prosimo\, naj bo naša priprošnjica tudi v letu 2025.
URL:https://www.pastir.si/dogodek/marija-sveta-bozja-mati/
CATEGORIES:Družina
ATTACH;FMTTYPE=image/jpeg:https://www.pastir.si/wp-content/uploads/2020/12/marija.jpg
END:VEVENT
BEGIN:VEVENT
DTSTART;VALUE=DATE:20241228
DTEND;VALUE=DATE:20241229
DTSTAMP:20260422T030421
CREATED:20241121T174018Z
LAST-MODIFIED:20241121T174018Z
UID:13147-1735344000-1735430399@www.pastir.si
SUMMARY:Sv. nedolžni otroci: narodni dan molitve za nerojeno človeško življenje
DESCRIPTION:Združimo se v prepotrebni molitvi za vse nerojene otroke in njihove starše.
URL:https://www.pastir.si/dogodek/sv-nedolzni-otroci-narodni-dan-molitve-za-nerojeno-clovesko-zivljenje/
ATTACH;FMTTYPE=image/jpeg:https://www.pastir.si/wp-content/uploads/2024/11/otrok.jpg
END:VEVENT
BEGIN:VEVENT
DTSTART;VALUE=DATE:20241225
DTEND;VALUE=DATE:20241226
DTSTAMP:20260422T030421
CREATED:20241121T173419Z
LAST-MODIFIED:20241121T173419Z
UID:11990-1735084800-1735171199@www.pastir.si
SUMMARY:Božič
DESCRIPTION:Rojen je Rešenik! Veselimo se in praznujmo skupaj\, četudi naša domača “štala” ni popolna. ;) Jezus nas je vesel. Vedno.  \nOtroci\, ne pozabite\, da bo danes poseben blagoslov otrok!
URL:https://www.pastir.si/dogodek/bozic-2/
ATTACH;FMTTYPE=image/jpeg:https://www.pastir.si/wp-content/uploads/2021/09/Bozic.jpg
END:VEVENT
BEGIN:VEVENT
DTSTART;VALUE=DATE:20241222
DTEND;VALUE=DATE:20241223
DTSTAMP:20260422T030421
CREATED:20210922T135640Z
LAST-MODIFIED:20241121T173146Z
UID:8730-1734825600-1734911999@www.pastir.si
SUMMARY:Luč miru iz Betlehema
DESCRIPTION:Skavti bodo kot že preko 30 let tudi letos zadnje adventne dni razsvetlili z Lučjo miru iz Betlehema. Kje in kako bo možno dobiti plamen? Spremljajte pastir.si.
URL:https://www.pastir.si/dogodek/luc-miru-iz-betlehema/
ATTACH;FMTTYPE=image/jpeg:https://www.pastir.si/wp-content/uploads/2021/09/Luc-miru.jpg
END:VEVENT
END:VCALENDAR