BEGIN:VCALENDAR
VERSION:2.0
PRODID:-//Pastoralna zveza župnij Slovenj Gradec - ECPv6.15.20//NONSGML v1.0//EN
CALSCALE:GREGORIAN
METHOD:PUBLISH
X-WR-CALNAME:Pastoralna zveza župnij Slovenj Gradec
X-ORIGINAL-URL:https://www.pastir.si
X-WR-CALDESC:Dogodki za Pastoralna zveza župnij Slovenj Gradec
REFRESH-INTERVAL;VALUE=DURATION:PT1H
X-Robots-Tag:noindex
X-PUBLISHED-TTL:PT1H
BEGIN:VTIMEZONE
TZID:Europe/Ljubljana
BEGIN:DAYLIGHT
TZOFFSETFROM:+0100
TZOFFSETTO:+0200
TZNAME:CEST
DTSTART:20230326T010000
END:DAYLIGHT
BEGIN:STANDARD
TZOFFSETFROM:+0200
TZOFFSETTO:+0100
TZNAME:CET
DTSTART:20231029T010000
END:STANDARD
BEGIN:DAYLIGHT
TZOFFSETFROM:+0100
TZOFFSETTO:+0200
TZNAME:CEST
DTSTART:20240331T010000
END:DAYLIGHT
BEGIN:STANDARD
TZOFFSETFROM:+0200
TZOFFSETTO:+0100
TZNAME:CET
DTSTART:20241027T010000
END:STANDARD
BEGIN:DAYLIGHT
TZOFFSETFROM:+0100
TZOFFSETTO:+0200
TZNAME:CEST
DTSTART:20250330T010000
END:DAYLIGHT
BEGIN:STANDARD
TZOFFSETFROM:+0200
TZOFFSETTO:+0100
TZNAME:CET
DTSTART:20251026T010000
END:STANDARD
END:VTIMEZONE
BEGIN:VEVENT
DTSTART;TZID=Europe/Ljubljana:20241216T193000
DTEND;TZID=Europe/Ljubljana:20241216T210000
DTSTAMP:20260424T120150
CREATED:20201127T095917Z
LAST-MODIFIED:20241121T172329Z
UID:5848-1734377400-1734382800@www.pastir.si
SUMMARY:Adventna druženja
DESCRIPTION:V molitvi za mir bomo zbrani na 3. adventnem druženju \nPred letom in pol je bilo. Avtobus romarjev je krenil iz Slovenj Gradca\, v kraje Jezusovega življenja. Naši župljani\, romarji v Sveto deželo\, takrat niso slutili\, da bo mesta\, skozi katera so potovali\, kmalu zajela vojna\, ki ji ni videti konca … \nV ponedeljek\, 16. decembra\, bodo ob 19.30 v Elizabetinem domu podelili z nami svoje ganljive izkušnje s tega romanja. Slišali bomo zgodbe\, ki so zaznamovale njihovo pot\, in skupaj v molitvi prosili\, da so Božji mir razširi na vsa nemirna območja sveta in v naša srca. \nPridite\, molimo in pričujmo skupaj – naj bo naše upanje luč za druge!
URL:https://www.pastir.si/dogodek/adventna-druzenja-na-spletu/
LOCATION:Elizabetin dom\, Slovenj Gradec\, Vorančev trg 5\, Slovenj Gradec\, 2380\, Slovenija
CATEGORIES:Srečanje
ATTACH;FMTTYPE=image/jpeg:https://www.pastir.si/wp-content/uploads/2021/11/adventnicas.jpg
END:VEVENT
BEGIN:VEVENT
DTSTART;TZID=Europe/Ljubljana:20241209T193000
DTEND;TZID=Europe/Ljubljana:20241209T210000
DTSTAMP:20260424T120150
CREATED:20201127T102012Z
LAST-MODIFIED:20241121T172201Z
UID:5864-1733772600-1733778000@www.pastir.si
SUMMARY:Adventna druženja
DESCRIPTION:Poživimo upanje – na 2. adventnem druženju \n»Upanje ne osramoti« (prim. Rim 5\,5); tak naslov nosi letošnje drugo adventno druženje. V ponedeljek\, 9. decembra\, ob 19.30 bo v Elizabetinem domu naša gostja s. Emanuela Žerdin. Sestra Emanuela je s svojimi globokimi življenjskimi izkušnjami velika pričevalka upanja – tudi v najtežjih trenutkih. \nDobrodošli sami ali s prijatelji\, da skupaj doživimo ta večer upanja in povezanosti.
URL:https://www.pastir.si/dogodek/adventna-druzenja/
CATEGORIES:Srečanje
ATTACH;FMTTYPE=image/jpeg:https://www.pastir.si/wp-content/uploads/2021/11/adventnicas.jpg
END:VEVENT
BEGIN:VEVENT
DTSTART;VALUE=DATE:20241208
DTEND;VALUE=DATE:20241209
DTSTAMP:20260424T120150
CREATED:20210922T135607Z
LAST-MODIFIED:20241121T172943Z
UID:8728-1733616000-1733702399@www.pastir.si
SUMMARY:Brezmadežno spočetje Device Marije
DESCRIPTION:Koga se še tako veselimo (poleg Jezusa\, seveda)\, da bi praznovali celo njegovo spočetje?! Pridi voščit naši mamici Mariji (in Ani in Joahimu ;)) k sveti maši.
URL:https://www.pastir.si/dogodek/brezmadezno-spocetje-device-marije/
ATTACH;FMTTYPE=image/jpeg:https://www.pastir.si/wp-content/uploads/2021/09/Marijino-brezmadezno-spocetje.jpg
END:VEVENT
BEGIN:VEVENT
DTSTART;TZID=Europe/Ljubljana:20241202T193000
DTEND;TZID=Europe/Ljubljana:20241202T210000
DTSTAMP:20260424T120150
CREATED:20201127T102146Z
LAST-MODIFIED:20241128T200918Z
UID:5866-1733167800-1733173200@www.pastir.si
SUMMARY:Adventna druženja
DESCRIPTION:Gremo skupaj – na 1. adventno druženje! \nAdvent je čas\, ko v naši skupnosti krepimo povezanost tudi z adventnimi druženji. Prvo srečanje\, z naslovom »Gremo skupaj«\, bo v ponedeljek\, 2. decembra\, ob 19.30 v Elizabetinem domu. \nGost večera\, celjski škof dr. Maksimilijan Matjaž\, bo po nedavni vrnitvi iz Rima z nami podelil svojo izkušnjo sinode – zares iz prve roke. \nAdvent nas vabi: gremo skupaj! Veselimo se vašega prihoda!
URL:https://www.pastir.si/dogodek/adventna-druzenja-2/
CATEGORIES:Srečanje
ATTACH;FMTTYPE=image/jpeg:https://www.pastir.si/wp-content/uploads/2024/11/advent24.jpg
END:VEVENT
BEGIN:VEVENT
DTSTART;VALUE=DATE:20241201
DTEND;VALUE=DATE:20241202
DTSTAMP:20260424T120150
CREATED:20211123T143324Z
LAST-MODIFIED:20241026T071149Z
UID:9009-1733011200-1733097599@www.pastir.si
SUMMARY:Začetek adventnega časa
DESCRIPTION:S prvo adventno nedeljo začenjamo adventni čas. Izkoristimo ga za temeljito pripravo na božične praznike.
URL:https://www.pastir.si/dogodek/zacetek-adventnega-casa/
ATTACH;FMTTYPE=image/jpeg:https://www.pastir.si/wp-content/uploads/2021/11/adventnicas.jpg
END:VEVENT
BEGIN:VEVENT
DTSTART;TZID=Europe/Ljubljana:20241130T080000
DTEND;TZID=Europe/Ljubljana:20241130T103000
DTSTAMP:20260424T120150
CREATED:20220415T082105Z
LAST-MODIFIED:20241120T171414Z
UID:9922-1732953600-1732962600@www.pastir.si
SUMMARY:Moški zajtrk
DESCRIPTION:Pravi moški dan začne zgodaj – z molitvijo in krepkim zajtrkom. ;)\nPrijave na pastir.si.
URL:https://www.pastir.si/dogodek/moski-zajtrk/
CATEGORIES:Srečanje
ATTACH;FMTTYPE=image/jpeg:https://www.pastir.si/wp-content/uploads/2022/04/moskizajtrk.jpg
END:VEVENT
BEGIN:VEVENT
DTSTART;VALUE=DATE:20241129
DTEND;VALUE=DATE:20241130
DTSTAMP:20260424T120150
CREATED:20201127T105942Z
LAST-MODIFIED:20241026T071912Z
UID:5870-1732838400-1732924799@www.pastir.si
SUMMARY:Devetdnevnica brezmadežni
DESCRIPTION:Začetek devetdnevnice brezmadežni. Se vidimo pri svetih mašah! :)
URL:https://www.pastir.si/dogodek/devetdnevnica-brezmadezni/
ATTACH;FMTTYPE=image/jpeg:https://www.pastir.si/wp-content/uploads/2020/11/9dnevnica.jpg
END:VEVENT
BEGIN:VEVENT
DTSTART;VALUE=DATE:20241124
DTEND;VALUE=DATE:20241125
DTSTAMP:20260424T120150
CREATED:20210922T135414Z
LAST-MODIFIED:20241026T071641Z
UID:8722-1732406400-1732492799@www.pastir.si
SUMMARY:Kristus\, Kralj vesoljstva
DESCRIPTION:Je Jezus res kralj? Pridi k sveti maši\, jo pozorno spremljaj … in vse bo jasno. :)
URL:https://www.pastir.si/dogodek/kristus-kralj-vesoljstva/
ATTACH;FMTTYPE=image/jpeg:https://www.pastir.si/wp-content/uploads/2021/09/Kristus-Kralj.jpg
END:VEVENT
BEGIN:VEVENT
DTSTART;TZID=Europe/Ljubljana:20241123T170000
DTEND;TZID=Europe/Ljubljana:20241123T190000
DTSTAMP:20260424T120150
CREATED:20241026T071607Z
LAST-MODIFIED:20241026T071607Z
UID:13040-1732381200-1732388400@www.pastir.si
SUMMARY:Delavnica adventnih venčkov
DESCRIPTION:Sodelavci Karitas vabijo k skupnemu izdelovanju adventnih venčkov v Elizabetinem domu. Več nas je\, lepše je …
URL:https://www.pastir.si/dogodek/delavnica-adventnih-venckov/
ATTACH;FMTTYPE=image/jpeg:https://www.pastir.si/wp-content/uploads/2024/10/adventnivenec.jpg
END:VEVENT
BEGIN:VEVENT
DTSTART;TZID=Europe/Ljubljana:20241123T080000
DTEND;TZID=Europe/Ljubljana:20241123T100000
DTSTAMP:20260424T120150
CREATED:20220415T081954Z
LAST-MODIFIED:20241117T195101Z
UID:9918-1732348800-1732356000@www.pastir.si
SUMMARY:Ženski zajtrk
DESCRIPTION:Letošnji ženski zajtrk vas popelje na Camino. Vsaj z utrinki pričevalk. Čas za dobrote\, pričevanje in prijetno druženje.\nPrijave na pastir.si.
URL:https://www.pastir.si/dogodek/zenski-zajtrk/
CATEGORIES:Srečanje
ATTACH;FMTTYPE=image/jpeg:https://www.pastir.si/wp-content/uploads/2022/04/zenskizajtrk.jpg
END:VEVENT
BEGIN:VEVENT
DTSTART;VALUE=DATE:20241103
DTEND;VALUE=DATE:20241104
DTSTAMP:20260424T120150
CREATED:20230922T102813Z
LAST-MODIFIED:20240928T075429Z
UID:11795-1730592000-1730678399@www.pastir.si
SUMMARY:Zahvalna nedelja
DESCRIPTION:Za nami je pestro leto\, polno dobrega\, lepega in tudi težkega. V vsem pa je z nami dobri Bog\, zato se mu združenih src zahvalimo za vsak njegov dar.
URL:https://www.pastir.si/dogodek/zahvalna-nedelja/
ATTACH;FMTTYPE=image/jpeg:https://www.pastir.si/wp-content/uploads/2023/09/zahvalna.jpg
END:VEVENT
BEGIN:VEVENT
DTSTART;VALUE=DATE:20241102
DTEND;VALUE=DATE:20241103
DTSTAMP:20260424T120150
CREATED:20230922T102216Z
LAST-MODIFIED:20240928T075334Z
UID:11793-1730505600-1730591999@www.pastir.si
SUMMARY:Spomin vseh vernih rajnih
DESCRIPTION:Združimo se v molitvi za vse naše drage rajne. Se vidimo pri sveti maši!
URL:https://www.pastir.si/dogodek/spomin-vseh-vernih-rajnih/
ATTACH;FMTTYPE=image/jpeg:https://www.pastir.si/wp-content/uploads/2021/03/molitev-2.jpg
END:VEVENT
BEGIN:VEVENT
DTSTART;VALUE=DATE:20241101
DTEND;VALUE=DATE:20241102
DTSTAMP:20260424T120150
CREATED:20210922T135339Z
LAST-MODIFIED:20240928T075247Z
UID:8720-1730419200-1730505599@www.pastir.si
SUMMARY:VSI SVETI: Molitev za rajne in blagoslov grobov
DESCRIPTION:Ni dan mrtvih\, ampak živih! Praznujmo z vsemi svetimi\, ki se že veselijo na Jagnjetovi svatbi. Za informacije o blagoslovu grobov spremljajte pastir.si in oznanila.
URL:https://www.pastir.si/dogodek/molitev-za-rajne-in-blagoslov-grobov/
ATTACH;FMTTYPE=image/jpeg:https://www.pastir.si/wp-content/uploads/2020/10/candle.jpg
END:VEVENT
BEGIN:VEVENT
DTSTART;TZID=Europe/Ljubljana:20241012T090000
DTEND;TZID=Europe/Ljubljana:20241012T103000
DTSTAMP:20260424T120150
CREATED:20210922T134945Z
LAST-MODIFIED:20240928T075132Z
UID:8707-1728723600-1728729000@www.pastir.si
SUMMARY:Začetek skavtskega leta
DESCRIPTION:Pouk se je že dodobra začel in tudi skavti že likamo kroje in zvijamo rutke! ;) Si vsaj že v 3. razredu? Pridruži se nam! Vse informacije najdeš na pastir.si. Se vidimo\, pa še koga pripelji!
URL:https://www.pastir.si/dogodek/zacetek-skavtskega-leta/
ATTACH;FMTTYPE=image/jpeg:https://www.pastir.si/wp-content/uploads/2021/09/skavti2.jpg
END:VEVENT
BEGIN:VEVENT
DTSTART;VALUE=DATE:20241011
DTEND;VALUE=DATE:20241015
DTSTAMP:20260424T120150
CREATED:20240928T073226Z
LAST-MODIFIED:20240928T073226Z
UID:12984-1728604800-1728950399@www.pastir.si
SUMMARY:Romanje v Medžugorje
DESCRIPTION:Dobrodošli na kraju\, kjer romarji vedno znova najdemo Mir. Prijave na pastir.si.
URL:https://www.pastir.si/dogodek/romanje-v-medzugorje-2/
ATTACH;FMTTYPE=image/jpeg:https://www.pastir.si/wp-content/uploads/2022/05/medjugorje.jpg
END:VEVENT
BEGIN:VEVENT
DTSTART;TZID=Europe/Ljubljana:20241006T100000
DTEND;TZID=Europe/Ljubljana:20241006T120000
DTSTAMP:20260424T120150
CREATED:20230922T101818Z
LAST-MODIFIED:20240928T073322Z
UID:11787-1728208800-1728216000@www.pastir.si
SUMMARY:Slovestnost svete birme
DESCRIPTION:Molimo za naše mlade\, da se jih darovi Svetega Duha dodobra primejo! :)
URL:https://www.pastir.si/dogodek/slovestnost-svete-birme/
ATTACH;FMTTYPE=image/jpeg:https://www.pastir.si/wp-content/uploads/2023/09/birma.jpg
END:VEVENT
BEGIN:VEVENT
DTSTART;TZID=Europe/Ljubljana:20241004T190000
DTEND;TZID=Europe/Ljubljana:20241004T210000
DTSTAMP:20260424T120150
CREATED:20201215T104433Z
LAST-MODIFIED:20240928T074916Z
UID:6212-1728068400-1728075600@www.pastir.si
SUMMARY:Alfa za mlade
DESCRIPTION:Mladi\, prihaja nekaj svežega in nepozabnega za vas. Se vidimo v Elizabetinem domu!
URL:https://www.pastir.si/dogodek/ealfa/
CATEGORIES:Alfa
ATTACH;FMTTYPE=image/jpeg:https://www.pastir.si/wp-content/uploads/2020/12/alfamladi.jpg
END:VEVENT
BEGIN:VEVENT
DTSTART;VALUE=DATE:20241004
DTEND;VALUE=DATE:20241008
DTSTAMP:20260424T120150
CREATED:20230922T101935Z
LAST-MODIFIED:20240928T073137Z
UID:11790-1728000000-1728345599@www.pastir.si
SUMMARY:Romanje v Medžugorje
DESCRIPTION:Dobrodošli na kraju\, kjer romarji vedno znova najdemo Mir. Prijave na pastir.si.
URL:https://www.pastir.si/dogodek/romanje-v-medzugorje/
ATTACH;FMTTYPE=image/jpeg:https://www.pastir.si/wp-content/uploads/2022/05/medjugorje.jpg
END:VEVENT
BEGIN:VEVENT
DTSTART;VALUE=DATE:20240901
DTEND;VALUE=DATE:20240902
DTSTAMP:20260424T120150
CREATED:20220817T112442Z
LAST-MODIFIED:20240717T120459Z
UID:10305-1725148800-1725235199@www.pastir.si
SUMMARY:Angelska nedelja
DESCRIPTION:Prva nedelja v septembru je angelska nedelja. Zahvalimo se angelom za nenehno spremstvo in varstvo!
URL:https://www.pastir.si/dogodek/angelska-nedelja/
CATEGORIES:Praznik
ATTACH;FMTTYPE=image/jpeg:https://www.pastir.si/wp-content/uploads/2022/08/angelska.jpg
END:VEVENT
BEGIN:VEVENT
DTSTART;VALUE=DATE:20240901
DTEND;VALUE=DATE:20240902
DTSTAMP:20260424T120150
CREATED:20240717T120950Z
LAST-MODIFIED:20240717T120950Z
UID:12815-1725148800-1725235199@www.pastir.si
SUMMARY:Srečanje zakonskih jubilantov
DESCRIPTION:Na Homcu se vsako leto srečajo zakonci jubilanti. Pridita tudi vidva\, se zahvalita Gospodu za skupaj prehojeno pot in se priporočita za varstvo in blagoslov še za naprej.
URL:https://www.pastir.si/dogodek/srecanje-zakonskih-jubilantov/
CATEGORIES:Slavljenje,Srečanje
ATTACH;FMTTYPE=image/jpeg:https://www.pastir.si/wp-content/uploads/2022/01/zakon.jpg
END:VEVENT
BEGIN:VEVENT
DTSTART;VALUE=DATE:20240629
DTEND;VALUE=DATE:20240630
DTSTAMP:20260424T120150
CREATED:20220619T153726Z
LAST-MODIFIED:20240601T185442Z
UID:10207-1719619200-1719705599@www.pastir.si
SUMMARY:Slovesni praznik sv. Petra in Pavla
DESCRIPTION:Slovesni praznik sv. Petra in Pavla \nZdružimo se v molitvi za duhovnike\, ki so bili večinoma posvečeni na današnji dan\, in se priporočimo velikima priprošnjikoma. Vabljeni k sveti maši!
URL:https://www.pastir.si/dogodek/slovesni-praznik-sv-petra-in-pavla-2/
ATTACH;FMTTYPE=image/jpeg:https://www.pastir.si/wp-content/uploads/2021/06/peterpavel.jpg
END:VEVENT
BEGIN:VEVENT
DTSTART;VALUE=DATE:20240615
DTEND;VALUE=DATE:20240616
DTSTAMP:20260424T120150
CREATED:20240601T185339Z
LAST-MODIFIED:20240601T185339Z
UID:12640-1718409600-1718495999@www.pastir.si
SUMMARY:Romanje na Brezje
DESCRIPTION:Romanje k Mariji na Brezje je namenjeno predvsem bolnim in ostarelim.
URL:https://www.pastir.si/dogodek/romanje-na-brezje/
ATTACH;FMTTYPE=image/jpeg:https://www.pastir.si/wp-content/uploads/2024/06/brezje.jpg
END:VEVENT
BEGIN:VEVENT
DTSTART;TZID=Europe/Ljubljana:20240610T080000
DTEND;TZID=Europe/Ljubljana:20240614T180000
DTSTAMP:20260424T120150
CREATED:20220415T084855Z
LAST-MODIFIED:20240601T184840Z
UID:9930-1718006400-1718388000@www.pastir.si
SUMMARY:Vpis k verouku
DESCRIPTION:Vpis k verouku za šolsko leto 2023/24 vo potekal od 10.–14. junija \nNe zamudite vpisa k verouku za šolsko leto 2024/2025. Podrobnejše informacije najdete v oznanilih.
URL:https://www.pastir.si/dogodek/vpis-k-verouku/
ATTACH;FMTTYPE=image/jpeg:https://www.pastir.si/wp-content/uploads/2021/06/verouk.jpg
END:VEVENT
BEGIN:VEVENT
DTSTART;VALUE=DATE:20240607
DTEND;VALUE=DATE:20240608
DTSTAMP:20260424T120150
CREATED:20220525T162626Z
LAST-MODIFIED:20240330T073329Z
UID:10109-1717718400-1717804799@www.pastir.si
SUMMARY:Praznik Srca Jezusovega
DESCRIPTION:Praznik Srca Jezusovega\, dan duhovniškega posvečenja \nZberimo se in na slovesni praznik počastimo Jezusovo presveto Srce. Še posebej molimo za novomašnike\, ki bodo na ta dan posvečeni. Vabljeni k sveti maši!
URL:https://www.pastir.si/dogodek/praznik-srca-jezusovega/
ATTACH;FMTTYPE=image/jpeg:https://www.pastir.si/wp-content/uploads/2022/05/srce_jezusovo.jpg
END:VEVENT
BEGIN:VEVENT
DTSTART;VALUE=DATE:20240530
DTEND;VALUE=DATE:20240531
DTSTAMP:20260424T120150
CREATED:20220525T162040Z
LAST-MODIFIED:20240330T073227Z
UID:10097-1717027200-1717113599@www.pastir.si
SUMMARY:Sv. Rešnje telo in kri
DESCRIPTION:SV. REŠNJE TELO IN KRI \nObhajamo Jezusovo navzočnost v zakramentu sv. Rešnjega telesa in krvi – evharistije\, ki je središče krščanske vere in zakramentalnega življenja vernih. Praznik je zapovedan\, zato se katoličani ta dan udeležimo bogoslužja.
URL:https://www.pastir.si/dogodek/sv-resnje-telo-in-kri/
ATTACH;FMTTYPE=image/jpeg:https://www.pastir.si/wp-content/uploads/2022/05/resnjetelo.jpg
END:VEVENT
BEGIN:VEVENT
DTSTART;VALUE=DATE:20240526
DTEND;VALUE=DATE:20240527
DTSTAMP:20260424T120150
CREATED:20220525T162516Z
LAST-MODIFIED:20240330T073003Z
UID:10107-1716681600-1716767999@www.pastir.si
SUMMARY:Nedelja Svete Trojice
DESCRIPTION:NEDELJA SVETE TROJICE in PRVO SVETO OBHAJILO \nNa nedeljo po binkoštnem prazniku praznujemo nedeljo Svete Trojice. Pri bogoslužju se zato posebej poglabljamo v skrivnost verske resnice o enem Bogu v treh osebah\, ki so Oče\, Sin in Sveti Duh. Za naše prvoobhajance pa je to poseben praznik\, saj bodo prvič prejeli Jezusa v srce.
URL:https://www.pastir.si/dogodek/nedelja-svete-trojice/
ATTACH;FMTTYPE=image/jpeg:https://www.pastir.si/wp-content/uploads/2022/05/sv_trojica.jpg
END:VEVENT
BEGIN:VEVENT
DTSTART;TZID=Europe/Ljubljana:20240406T193000
DTEND;TZID=Europe/Ljubljana:20240406T210000
DTSTAMP:20260424T120150
CREATED:20240330T071949Z
LAST-MODIFIED:20240330T072132Z
UID:12465-1712431800-1712437200@www.pastir.si
SUMMARY:Večer slavljenja - Zoé
DESCRIPTION:Večer slavljenja s slavilno skupino Zoé. \nSkupino Zoé sestavljamo Klara\, Sara\, Nika\, Žiga\, Jakob in Lovro. Ime naše skupine smo izbrali\, ker beseda Zoé v grščini pomeni življenje\, v Janezovem evangeliju pa v grščini predvsem duhovno in večno življenje. Verujemo\, da ima Bog za vse\, ki si tega želijo\, pripravljeno večno življenje\, kar je naše vodilo. :))
URL:https://www.pastir.si/dogodek/slavilni-vecer-zoe/
LOCATION:Elizabetin dom\, Slovenj Gradec\, Vorančev trg 5\, Slovenj Gradec\, 2380\, Slovenija
CATEGORIES:Slavljenje
ATTACH;FMTTYPE=image/jpeg:https://www.pastir.si/wp-content/uploads/2024/03/zoe-1.jpg
END:VEVENT
BEGIN:VEVENT
DTSTART;TZID=Europe/Ljubljana:20240119T193000
DTEND;TZID=Europe/Ljubljana:20240119T210000
DTSTAMP:20260424T120150
CREATED:20221021T123134Z
LAST-MODIFIED:20240110T161739Z
UID:10477-1705692600-1705698000@www.pastir.si
SUMMARY:Taizéjski večer
DESCRIPTION:Slavilni večer s taizéjskimi spevi v Elizabetinem domu. Lepo bo\, preprosto in bogato obenem. Skupaj bomo molili in prepevali.
URL:https://www.pastir.si/dogodek/slavilni-vecer-2/
CATEGORIES:Slavljenje
ATTACH;FMTTYPE=image/jpeg:https://www.pastir.si/wp-content/uploads/2022/10/taize.jpg
END:VEVENT
BEGIN:VEVENT
DTSTART;TZID=Europe/Ljubljana:20240118T180000
DTEND;TZID=Europe/Ljubljana:20240118T200000
DTSTAMP:20260424T120150
CREATED:20221215T145758Z
LAST-MODIFIED:20240110T161658Z
UID:8734-1705600800-1705608000@www.pastir.si
SUMMARY:Alfa 2024
DESCRIPTION:Alfa spreminja na bolje življenja po vsem svetu … Zakaj ne bi še tvojega? :)
URL:https://www.pastir.si/dogodek/alfa-2022/
CATEGORIES:Alfa,Srečanje
ATTACH;FMTTYPE=image/jpeg:https://www.pastir.si/wp-content/uploads/2021/09/alfa_21.jpg
END:VEVENT
BEGIN:VEVENT
DTSTART;VALUE=DATE:20240112
DTEND;VALUE=DATE:20240115
DTSTAMP:20260424T120150
CREATED:20240110T161443Z
LAST-MODIFIED:20240110T161443Z
UID:12165-1705017600-1705276799@www.pastir.si
SUMMARY:Duhovne vaje za 7. in 8. razred
DESCRIPTION:V molitvi podprimo naše mlade\, ki se odpravljajo na duhovni odmik. Naj jih dobri Bog navduši in nagovori.
URL:https://www.pastir.si/dogodek/duhovne-vaje-za-7-in-8-razred/
CATEGORIES:Srečanje
ATTACH;FMTTYPE=image/jpeg:https://www.pastir.si/wp-content/uploads/2021/10/mladi.jpg
END:VEVENT
END:VCALENDAR